BEGIN:VCALENDAR
PRODID:NingEventWidget-v1
VERSION:2.0
METHOD:PUBLISH
BEGIN:VTIMEZONE
TZID:Europe/Athens
X-LIC-LOCATION:Europe/Athens
BEGIN:DAYLIGHT
TZOFFSETFROM:+0200
TZOFFSETTO:+0300
TZNAME:EEST
DTSTART:19700329T030000
RRULE:FREQ=YEARLY;BYMONTH=3;BYDAY=-1SU
END:DAYLIGHT
BEGIN:STANDARD
TZOFFSETFROM:+0300
TZOFFSETTO:+0200
TZNAME:EET
DTSTART:19701025T040000
RRULE:FREQ=YEARLY;BYMONTH=10;BYDAY=-1SU
END:STANDARD
END:VTIMEZONE
BEGIN:VEVENT
UID:1982923:Event:494702
DTSTAMP:20260422T012839Z
SUMMARY:Blues Peer festival 2026 / Peer, Belgium
DESCRIPTION:Blues Peer is back on May 22–24, 2026, bringing three da
 ys of blues, soul, roots and groove to the town of Peer in Belgium’s
  Limburg region. Known for its warm atmosphere and love of live music,
  the festival is a longtime favorite for fans who want big performance
 s without losing that close-to-the-stage feeling.\r\nFriday (May 22) i
 ncludes free entry for everyone as part of the Peerse Feesten—please
  note: capacity is limited. If you want guaranteed access, consider a 
 weekend package that includes Friday.\r\nSaturday, May 23, 2026\r\n\r\
 nJake Bugg\r\nDaan\r\nC.W. Stoneking\r\nEli “Paperboy” Reed\r\nBru
 shy One-String\r\nIsrael Nash\r\nSean “Mack” McDonald\r\nLuca Holk
 enborg Band\r\n\r\nSunday, May 24, 2026\r\n\r\nThe Scabs\r\nThe James 
 Hunter Six\r\nThe Robert Cray Band\r\nDelvon Lamarr Organ Trio\r\nTee\
 r\nBobby Rush\r\nLaura Cox\r\nThe Buttshakers\r\n\r\n\n\nFor more info
 rmation visit https://blues.gr/events/blues-peer-festival-2026-peer-be
 lgium
DTSTART;TZID=Europe/Athens:20260522T000000
DTEND;TZID=Europe/Athens:20260524T235900
CATEGORIES:blues
LOCATION:Peer Belgium
WEBSITE:https://bluespeer.be/
URL:https://bluespeer.be/
CONTACT:
ORGANIZER:Blues Peer
ATTACH;FMTTYPE="image/jpeg":https://storage.ning.com/topology/rest/1.0
 /file/get/31079491100?profile=original
ATTENDEE;ROLE=REQ-PARTICIPANT;PARTSTAT=ACCEPTED;RSVP=TRUE;CN="Music Ne
 twork by Michael Limnios":https://blues.gr/profile/MichalisLimnios
END:VEVENT
END:VCALENDAR
