BEGIN:VCALENDAR
PRODID:NingEventWidget-v1
VERSION:2.0
METHOD:PUBLISH
BEGIN:VTIMEZONE
TZID:Europe/Athens
X-LIC-LOCATION:Europe/Athens
BEGIN:DAYLIGHT
TZOFFSETFROM:+0200
TZOFFSETTO:+0300
TZNAME:EEST
DTSTART:19700329T030000
RRULE:FREQ=YEARLY;BYMONTH=3;BYDAY=-1SU
END:DAYLIGHT
BEGIN:STANDARD
TZOFFSETFROM:+0300
TZOFFSETTO:+0200
TZNAME:EET
DTSTART:19701025T040000
RRULE:FREQ=YEARLY;BYMONTH=10;BYDAY=-1SU
END:STANDARD
END:VTIMEZONE
BEGIN:VEVENT
UID:1982923:Event:54111
DTSTAMP:20260422T140853Z
SUMMARY:Blues People in Residence - Montecristo Live! - 26/4
DESCRIPTION:Οι BLUES PEOPLE με εκλεκτούς καλεσμέν
 ους και φίλους παρουσιαζουν μερικα απ
  τα πιο αντιπροσωπευτικα styles του κλασ
 κου αλλα και σύνχρονου Rythm n' Blues.\nΚομμα
 τια με τισ υπογραφεσ των...Stevie Ray Vaugn, Rober
 t Johnson, Muddy Waters, Freddie King, B.B. King, Tom Waits, Koko Tayl
 or, Ida Kox, John Mayal, Kenny Neal, Jeff Beck, Albert Collins, Janis 
 Joplin, Rory Gallagher, Jimmy Hendrix, Aretha Franklin, The Blues Band
  και πολλων αλλων.\n\nΤην πιο \"μαύρη\" μο
 σική κολεκτίβα των Ιωαννίνων στο Μοντ
 εκριστο αποτελούν οι:\n\nΧρήστος Παρλαπ
 άς - Φωνή, κιθάρα, φυσαρμόνικες\nΣοφία Κ
 αμηνά - Φωνή\nΑλέξης Μπότης - Κιθάρα\nΆκ
 ς Κασκάνης - Μπάσο\nΛεωνίδας Πορίκης - 
 ύμπανα\n\nSPECIAL GUESTS:\n\nΖωή Ευαγγέλου - Φών
 η\nΧρήστος Δαμιανίδης - Κιθάρα\nΚώστας 
 ωτίου - κιθάρα\n\nFor more information visit https://blues
 .gr/events/blues-people-in-residence
DTSTART;TZID=Europe/Athens:20100426T223000
DTEND;TZID=Europe/Athens:20100427T023000
CATEGORIES:blues, live
LOCATION:MONTECRISTO LIVE
WEBSITE:
URL:
CONTACT:
ORGANIZER;CN="Blues People Incorporated":https://blues.gr/profile/Blue
 sPeopleIncorporated
ATTACH;FMTTYPE="image/jpeg":http://storage.ning.com/topology/rest/1.0/
 file/get/2112291703?profile=original
ATTENDEE;ROLE=REQ-PARTICIPANT;PARTSTAT=ACCEPTED;RSVP=TRUE;CN="Blues Pe
 ople Incorporated":https://blues.gr/profile/BluesPeopleIncorporated
END:VEVENT
END:VCALENDAR
