BEGIN:VCALENDAR
PRODID:NingEventWidget-v1
VERSION:2.0
METHOD:PUBLISH
BEGIN:VTIMEZONE
TZID:Europe/Athens
X-LIC-LOCATION:Europe/Athens
BEGIN:DAYLIGHT
TZOFFSETFROM:+0200
TZOFFSETTO:+0300
TZNAME:EEST
DTSTART:19700329T030000
RRULE:FREQ=YEARLY;BYMONTH=3;BYDAY=-1SU
END:DAYLIGHT
BEGIN:STANDARD
TZOFFSETFROM:+0300
TZOFFSETTO:+0200
TZNAME:EET
DTSTART:19701025T040000
RRULE:FREQ=YEARLY;BYMONTH=10;BYDAY=-1SU
END:STANDARD
END:VTIMEZONE
BEGIN:VEVENT
UID:1982923:Event:39681
DTSTAMP:20260423T102030Z
SUMMARY:blues people inc. LIVE at STOA BAR-IOANNINA **19/1**
DESCRIPTION:Οι BLUES PEOPLE INCORPORATED φέρνουν την bluez
 oμηχανή τους\nΣτή ΣΤΟΑ, την Τρίτη 19 γενά
 ρη, για μια βραδυά ασυγκράτητων\nGrooves κ
 ι shuffle.\nΑπο Texas boogie και Chicago funk μεχρι τα 
 rhythm n blues των Αγγλικών συγκροτημμάτων τ
 ων 70’s και 80’s, Οι BLUES PEOPLE INC.\nΥπόσχοντα
  ένα εκρηκτικό live αφιερωμένο στην πιό 
 σημαντική μουσική επιρροή\nτου 20ου αιώ
 να.\nΟι BLUES PEOPLE INCORPORATED είναι:\n\nΧρήστος Π
 αρλαπάς – Φωνή, κιθάρα, φυσαρμόνικα\nΆ
 ης Κασκάνης – Ηλεκτρικό μπάσο\nΑχιλλέ
 ας Ράδης – Κιθάρα, φωνή\nΛεωνίδας Πορί
 ης - Τύμπανα\n\nFor more information visit https://blues.gr/
 events/blues-people-inc-live-at-stoa
DTSTART;TZID=Europe/Athens:20100119T113000
DTEND;TZID=Europe/Athens:20100120T150000
CATEGORIES:blues, party, -, live
LOCATION:STOA BAR
WEBSITE:http://maps.google.com/?ie=UTF8&ll=39.669105,20.854905&spn=0.0
 01788,0.003449&t=h&z=18
URL:http://maps.google.com/?ie=UTF8&ll=39.669105,20.854905&spn=0.00178
 8,0.003449&t=h&z=18
CONTACT:
ORGANIZER;CN="Blues People Incorporated":https://blues.gr/profile/Blue
 sPeopleIncorporated
ATTACH;FMTTYPE="image/jpeg":http://storage.ning.com/topology/rest/1.0/
 file/get/2252938642?profile=original
ATTENDEE;ROLE=REQ-PARTICIPANT;PARTSTAT=ACCEPTED;RSVP=TRUE;CN="Blues Pe
 ople Incorporated":https://blues.gr/profile/BluesPeopleIncorporated
END:VEVENT
END:VCALENDAR
