BEGIN:VCALENDAR
PRODID:NingEventWidget-v1
VERSION:2.0
METHOD:PUBLISH
BEGIN:VTIMEZONE
TZID:Europe/Athens
X-LIC-LOCATION:Europe/Athens
BEGIN:DAYLIGHT
TZOFFSETFROM:+0200
TZOFFSETTO:+0300
TZNAME:EEST
DTSTART:19700329T030000
RRULE:FREQ=YEARLY;BYMONTH=3;BYDAY=-1SU
END:DAYLIGHT
BEGIN:STANDARD
TZOFFSETFROM:+0300
TZOFFSETTO:+0200
TZNAME:EET
DTSTART:19701025T040000
RRULE:FREQ=YEARLY;BYMONTH=10;BYDAY=-1SU
END:STANDARD
END:VTIMEZONE
BEGIN:VEVENT
UID:1982923:Event:43209
DTSTAMP:20260422T030351Z
SUMMARY:Blues People-Blues Girls
DESCRIPTION:Kάτι το εντελώς καινούργιο ετοι
 άζετε στο MONTECHRISTO. Η πιο «μαύρη» μπάντα
  της πόλης, οι BLUES PEOPLE INCORPORATED, φέρνουν κ
 τι από Νέα Ορλεάνη, Σικάγο και Τέξας σ
 ον παραλίμνιο χώρο της οδού Γαριβάλδη
 , και με την συμμετοχή νέων μελών της ο
 κογένειας ετοιμάζουν ένα αφιέρωμα στ
 ν Γυναικεία ερμηνεία του Rhythm n’ Blues. Τη
 ν Κυριακή 21 Φλεβάρη στις 10 η βασική τετ
 ράδα αποτελούμενη από τους: Χρήστο Παρ
 λαπά, Αχιλλέα Ραδη, Άκη Κασκάνη και Λεω
 νίδα Πορίκη, προετοιμάζει το έδαφος με
  περίσσιο feeling και καυτά grooves. Από το Μά
 τιο, το MONTECHRISTO κάθε Δευτέρα είναι το μ
 νο LIVE Blues Club στα Ιωάννινα, όπου οι Blues peo
 ple – Blues girls μαζί με εκλεκτούς φίλους θα
  μαγεύουν τα βράδυα. Ο λόγος λοιπόν στα
  κορίτσια ...and lets play some Blues. Blues people – Blues 
 girls Συμμετέχουν: Χρήστος Παρλαπάς Αχιλ
 λέας Ράδης Άκης Κασκάνης Λεωνίδας Πορ
 κης Αλέξης Μπότης Σοφία Καμηνά Ζωή Ευ
 γγέλου\n\nFor more information visit https://blues.gr/events/bl
 ues-peopleblues-girls
DTSTART;TZID=Europe/Athens:20100221T220000
DTEND;TZID=Europe/Athens:20100222T010000
CATEGORIES:blues, live
LOCATION:MONTECHRISTO
WEBSITE:
URL:
CONTACT:
ORGANIZER;CN="Blues People Incorporated":https://blues.gr/profile/Blue
 sPeopleIncorporated
ATTACH;FMTTYPE="image/jpeg":http://storage.ning.com/topology/rest/1.0/
 file/get/2252939533?profile=original
ATTENDEE;ROLE=REQ-PARTICIPANT;PARTSTAT=ACCEPTED;RSVP=TRUE;CN="Blues Pe
 ople Incorporated":https://blues.gr/profile/BluesPeopleIncorporated
END:VEVENT
END:VCALENDAR
