BEGIN:VCALENDAR
PRODID:NingEventWidget-v1
VERSION:2.0
METHOD:PUBLISH
BEGIN:VTIMEZONE
TZID:Europe/Athens
X-LIC-LOCATION:Europe/Athens
BEGIN:DAYLIGHT
TZOFFSETFROM:+0200
TZOFFSETTO:+0300
TZNAME:EEST
DTSTART:19700329T030000
RRULE:FREQ=YEARLY;BYMONTH=3;BYDAY=-1SU
END:DAYLIGHT
BEGIN:STANDARD
TZOFFSETFROM:+0300
TZOFFSETTO:+0200
TZNAME:EET
DTSTART:19701025T040000
RRULE:FREQ=YEARLY;BYMONTH=10;BYDAY=-1SU
END:STANDARD
END:VTIMEZONE
BEGIN:VEVENT
UID:1982923:Event:122079
DTSTAMP:20260420T074651Z
SUMMARY:BLUES & POETRY FEST
DESCRIPTION:\nΛέμε να μαζευτούμε ξανά. Ίσως ν
 α έχουμε κιόλας αργήσει.\nΠέρασαν σχεδ
 ν τρία χρόνια από τότε που στο Vinilion πα
 τρέψαμε το μπλουζ με την ποίηση.\nΣτις 
 25 και τις 26 του Νοέμβρη, ενός μήνα γεμά
 ου από αλλαγές, εμείς το χαβά μας…\nΜπ
 ουζ λοιπόν, με πραγματικούς μάστορες 
 ου είδους που το γνωρίζουν καλά.\n \n \n2
 5 Νοέμβρη:\nΟι Congo Square και oι Small Blues Trap μα
  ταξιδεύουν στα λημέρια του Freddie King, το
 υ Ronnie Earl αλλά και του Captain Beafheart.\n \n26 Νο
 μβρη:\nΟι Limpin’ Express με τους Small Blues Trap μα
 ς παρασέρνουν από την άγονη γη του Αμε
 ικάνικου Νότου, εκεί που τα μπλουζ γεν
 νήθηκαν, στο British revival των '60s.\n \nΜαζί το
 υς και τις δύο μέρες οι ποιητές:\nΒλάση
  Ρασσιάς, Γιώργος Ίκαρος Μπαμπασάκης 
 αι Παύλος Αβούρης.\nAπαγγέλουν επίσης:\
 nη ραδιοφωνική παραγωγός Στέλλα Γεωργ
 ου και η Φανή Σταύρου.\n \nΗ Δροσιά Καρα
 πιπέρη και ο Σωτήρης Κουρούτης, πλημυρ
 ίζουν το Vinilion με μπλουζ παραστάσεις, ε
 θέτοντας τα έργα ζωγραφικής τους.\n \n\n
 For more information visit https://blues.gr/events/blues-poetry-fest
DTSTART;TZID=Europe/Athens:20111125T000000
DTEND;TZID=Europe/Athens:20111125T235900
CATEGORIES:blues, "live!"
LOCATION:VINILION
WEBSITE:
URL:
CONTACT:210 2692640
ORGANIZER:VINILION
ATTACH;FMTTYPE="image/jpeg":http://storage.ning.com/topology/rest/1.0/
 file/get/2252962165?profile=original
ATTENDEE;ROLE=REQ-PARTICIPANT;PARTSTAT=ACCEPTED;RSVP=TRUE;CN="Giannis 
 Pachidis":https://blues.gr/profile/ioannis
ATTENDEE;ROLE=REQ-PARTICIPANT;PARTSTAT=ACCEPTED;RSVP=TRUE;CN="Small Bl
 ues Trap":https://blues.gr/profile/SmallBluesTrap
ATTENDEE;ROLE=REQ-PARTICIPANT;PARTSTAT=ACCEPTED;RSVP=TRUE;CN="Thanasis
  Giokas":https://blues.gr/profile/giokasthanasis
ATTENDEE;ROLE=REQ-PARTICIPANT;PARTSTAT=TENTATIVE;RSVP=TRUE;CN="Dimitri
 s Ioannou":https://blues.gr/profile/DimitrisIoannou
ATTENDEE;ROLE=REQ-PARTICIPANT;PARTSTAT=TENTATIVE;RSVP=TRUE;CN="tony do
 llaro":https://blues.gr/profile/tonydollaro
ATTENDEE;ROLE=REQ-PARTICIPANT;PARTSTAT=TENTATIVE;RSVP=TRUE;CN="Nik Arv
 anitis":https://blues.gr/profile/NikosArvanitis
END:VEVENT
END:VCALENDAR
