BEGIN:VCALENDAR
PRODID:NingEventWidget-v1
VERSION:2.0
METHOD:PUBLISH
BEGIN:VTIMEZONE
TZID:Europe/Athens
X-LIC-LOCATION:Europe/Athens
BEGIN:DAYLIGHT
TZOFFSETFROM:+0200
TZOFFSETTO:+0300
TZNAME:EEST
DTSTART:19700329T030000
RRULE:FREQ=YEARLY;BYMONTH=3;BYDAY=-1SU
END:DAYLIGHT
BEGIN:STANDARD
TZOFFSETFROM:+0300
TZOFFSETTO:+0200
TZNAME:EET
DTSTART:19701025T040000
RRULE:FREQ=YEARLY;BYMONTH=10;BYDAY=-1SU
END:STANDARD
END:VTIMEZONE
BEGIN:VEVENT
UID:1982923:Event:54791
DTSTAMP:20260420T193304Z
SUMMARY:Blues Revenge @ Igodo Classic Bar (www.myspace.com/bluesreveng
 e)
DESCRIPTION:Blues Live στο IGODO classic bar : Αντρέας Γκ
 μόζιας (Κιθάρα, Τραγούδι), Τάσος Δρίτσ
 ς (Κοντραμπάσο), Βαγγέλης Κοτζάμπασης 
 (Drums)\n\nFor more information visit https://blues.gr/events/blues-re
 venge-igodo-classic-1
DTSTART;TZID=Europe/Athens:20100510T220000
DTEND;TZID=Europe/Athens:20100510T230000
CATEGORIES:live, blues
LOCATION:IGODO classic bar, Μ.Αλεξανδρου 75, Μπουρνα
 ζι
WEBSITE:
URL:
CONTACT:210 5746414
ORGANIZER;CN="Tasos Dritsos":https://blues.gr/profile/Tasos
ATTACH;FMTTYPE="image/jpeg":http://storage.ning.com/topology/rest/1.0/
 file/get/2252939443?profile=original
ATTENDEE;ROLE=REQ-PARTICIPANT;PARTSTAT=ACCEPTED;RSVP=TRUE;CN="Giannis 
 Pachidis":https://blues.gr/profile/ioannis
ATTENDEE;ROLE=REQ-PARTICIPANT;PARTSTAT=ACCEPTED;RSVP=TRUE;CN="Tasos Dr
 itsos":https://blues.gr/profile/Tasos
END:VEVENT
END:VCALENDAR
