BEGIN:VCALENDAR
PRODID:NingEventWidget-v1
VERSION:2.0
METHOD:PUBLISH
BEGIN:VTIMEZONE
TZID:Europe/Athens
X-LIC-LOCATION:Europe/Athens
BEGIN:DAYLIGHT
TZOFFSETFROM:+0200
TZOFFSETTO:+0300
TZNAME:EEST
DTSTART:19700329T030000
RRULE:FREQ=YEARLY;BYMONTH=3;BYDAY=-1SU
END:DAYLIGHT
BEGIN:STANDARD
TZOFFSETFROM:+0300
TZOFFSETTO:+0200
TZNAME:EET
DTSTART:19701025T040000
RRULE:FREQ=YEARLY;BYMONTH=10;BYDAY=-1SU
END:STANDARD
END:VTIMEZONE
BEGIN:VEVENT
UID:1982923:Event:76174
DTSTAMP:20260422T132605Z
SUMMARY:Blues Revenge @ Life Jazzy  Bar, Παρασκευή 29 Οκτ
 βρίου, (www.myspace.com/bluesrevenge)
DESCRIPTION:Blues Revenge Live @ Life Jazzy Bar,\nΑντρέας Γκ
 μόζιας (Κιθάρα, Τραγούδι),\nΤάσος Δρίτσ
 ος (Κοντραμπάσο),\nΧρήστος Ανδριανός (Dru
 ms)\nΕΙΣΟΔΟΣ ΕΛΕΥΘΕΡΗ\n\nFor more information visit htt
 ps://blues.gr/events/blues-revenge-life-jazzy-bar
DTSTART;TZID=Europe/Athens:20101029T223000
DTEND;TZID=Europe/Athens:20101030T010000
CATEGORIES:blues, live, gig
LOCATION:Life Jazzy Bar, Εθνικής Αντίστασης 80, Πε
 ρούπολη
WEBSITE:
URL:
CONTACT:
ORGANIZER;CN="Tasos Dritsos":https://blues.gr/profile/Tasos
ATTACH;FMTTYPE="image/jpeg":http://storage.ning.com/topology/rest/1.0/
 file/get/2252939443?profile=original
ATTENDEE;ROLE=REQ-PARTICIPANT;PARTSTAT=ACCEPTED;RSVP=TRUE;CN="Tsiamtsi
 kas Nikolaos":https://blues.gr/profile/TsiamtsikasNikolaos
ATTENDEE;ROLE=REQ-PARTICIPANT;PARTSTAT=ACCEPTED;RSVP=TRUE;CN="Giannis 
 Pachidis":https://blues.gr/profile/ioannis
ATTENDEE;ROLE=REQ-PARTICIPANT;PARTSTAT=ACCEPTED;RSVP=TRUE;CN="Tasos Dr
 itsos":https://blues.gr/profile/Tasos
END:VEVENT
END:VCALENDAR
