BEGIN:VCALENDAR
PRODID:NingEventWidget-v1
VERSION:2.0
METHOD:PUBLISH
BEGIN:VTIMEZONE
TZID:Europe/Athens
X-LIC-LOCATION:Europe/Athens
BEGIN:DAYLIGHT
TZOFFSETFROM:+0200
TZOFFSETTO:+0300
TZNAME:EEST
DTSTART:19700329T030000
RRULE:FREQ=YEARLY;BYMONTH=3;BYDAY=-1SU
END:DAYLIGHT
BEGIN:STANDARD
TZOFFSETFROM:+0300
TZOFFSETTO:+0200
TZNAME:EET
DTSTART:19701025T040000
RRULE:FREQ=YEARLY;BYMONTH=10;BYDAY=-1SU
END:STANDARD
END:VTIMEZONE
BEGIN:VEVENT
UID:1982923:Event:77109
DTSTAMP:20260420T000014Z
SUMMARY:Blues Revenge Live @ Dizzy Miles (www.myspace.com/bluesrevenge
 )
DESCRIPTION:Blues Revenge Live @ Dizzy Miles\nΑντρέας Γκομ
 ζιας (Κιθάρα, Τραγούδι),\nΤάσος Δρίτσος
  (Μπάσο),\nΧρήστος Ανδριανός (Drums)\nΕΙΣΟΔ
 Σ:+5 ΕΥΡΩ ΣΤΟ ΠΡΩΤΟ ΠΟΤΟ.\n\nFor more information vi
 sit https://blues.gr/events/blues-revenge-live-dizzy
DTSTART;TZID=Europe/Athens:20101102T213000
DTEND;TZID=Europe/Athens:20101102T233000
CATEGORIES:blues, live, gig
LOCATION:Dizzy Miles, Αθανασίας 4 και Ευτυχίδου, 
 Παγκράτι.
WEBSITE:http://www.dizzymiles.com/
URL:http://www.dizzymiles.com/
CONTACT:
ORGANIZER;CN="Tasos Dritsos":https://blues.gr/profile/Tasos
ATTACH;FMTTYPE="image/jpeg":http://storage.ning.com/topology/rest/1.0/
 file/get/2252939443?profile=original
ATTENDEE;ROLE=REQ-PARTICIPANT;PARTSTAT=ACCEPTED;RSVP=TRUE;CN="Tsiamtsi
 kas Nikolaos":https://blues.gr/profile/TsiamtsikasNikolaos
ATTENDEE;ROLE=REQ-PARTICIPANT;PARTSTAT=ACCEPTED;RSVP=TRUE;CN="Tasos Dr
 itsos":https://blues.gr/profile/Tasos
END:VEVENT
END:VCALENDAR
