BEGIN:VCALENDAR
PRODID:NingEventWidget-v1
VERSION:2.0
METHOD:PUBLISH
BEGIN:VTIMEZONE
TZID:Europe/Athens
X-LIC-LOCATION:Europe/Athens
BEGIN:DAYLIGHT
TZOFFSETFROM:+0200
TZOFFSETTO:+0300
TZNAME:EEST
DTSTART:19700329T030000
RRULE:FREQ=YEARLY;BYMONTH=3;BYDAY=-1SU
END:DAYLIGHT
BEGIN:STANDARD
TZOFFSETFROM:+0300
TZOFFSETTO:+0200
TZNAME:EET
DTSTART:19701025T040000
RRULE:FREQ=YEARLY;BYMONTH=10;BYDAY=-1SU
END:STANDARD
END:VTIMEZONE
BEGIN:VEVENT
UID:1982923:Event:77652
DTSTAMP:20260422T015748Z
SUMMARY:Blues Revenge Live @ Ρακόμελο, Κυριακή 21 Νο
 μβρίου, (www.myspace.com/bluesrevenge)
DESCRIPTION:Αντρέας Γκομόζιας (Κιθάρα, Τραγ
 ύδι)\nΤάσος Δρίτσος (Κοντραμπάσο)\nΧρήσ
 τος Ανδριανός (Drums)\n\nFor more information visit https:
 //blues.gr/events/blues-revenge-live-rakhomelo
DTSTART;TZID=Europe/Athens:20101128T220000
DTEND;TZID=Europe/Athens:20101129T010000
CATEGORIES:blues, live, gig
LOCATION:Ρακόμελο, Διστόμου 9α, Πλ. Aνεξαρτη
 σίας, Ηλιούπολη
WEBSITE:
URL:
CONTACT:
ORGANIZER;CN="Tasos Dritsos":https://blues.gr/profile/Tasos
ATTACH;FMTTYPE="image/jpeg":http://storage.ning.com/topology/rest/1.0/
 file/get/2252939443?profile=original
ATTENDEE;ROLE=REQ-PARTICIPANT;PARTSTAT=ACCEPTED;RSVP=TRUE;CN="Tasos Dr
 itsos":https://blues.gr/profile/Tasos
ATTENDEE;ROLE=REQ-PARTICIPANT;PARTSTAT=ACCEPTED;RSVP=TRUE;CN="chris pe
 tinatos":https://blues.gr/profile/chrispetinatos
END:VEVENT
END:VCALENDAR
