BEGIN:VCALENDAR
PRODID:NingEventWidget-v1
VERSION:2.0
METHOD:PUBLISH
BEGIN:VTIMEZONE
TZID:Europe/Athens
X-LIC-LOCATION:Europe/Athens
BEGIN:DAYLIGHT
TZOFFSETFROM:+0200
TZOFFSETTO:+0300
TZNAME:EEST
DTSTART:19700329T030000
RRULE:FREQ=YEARLY;BYMONTH=3;BYDAY=-1SU
END:DAYLIGHT
BEGIN:STANDARD
TZOFFSETFROM:+0300
TZOFFSETTO:+0200
TZNAME:EET
DTSTART:19701025T040000
RRULE:FREQ=YEARLY;BYMONTH=10;BYDAY=-1SU
END:STANDARD
END:VTIMEZONE
BEGIN:VEVENT
UID:1982923:Event:117827
DTSTAMP:20260424T124203Z
SUMMARY:Blues Revenge Live @ STAGE 25 feat. Panos Batikoudis on Guitar
DESCRIPTION:Οι Blues Revenge ζωντανά στο STAGE 25, με ι
 διαίτερη χαρά, παρουσιάζουν τον Πάνο Μ
 πατικούδη, ενα σημαντικό blues κιθαρίστα
  απο την Λάρισσα, σε μια απο τις σπάνιε
  εμφανήσεις του στην Αθήνα.\n\nFor more informa
 tion visit https://blues.gr/events/blues-revenge-live-stage-25-feat-pa
 nos-batikoudis-on-guitar
DTSTART;TZID=Europe/Athens:20111104T000000
DTEND;TZID=Europe/Athens:20111104T235900
CATEGORIES:blues, live, gig
LOCATION:STAGE 25, Αισχύλου 25, Περιστέρι
WEBSITE:
URL:
CONTACT:5714785
ORGANIZER;CN="Tasos Dritsos":https://blues.gr/profile/Tasos
ATTACH;FMTTYPE="image/jpeg":http://storage.ning.com/topology/rest/1.0/
 file/get/2252939443?profile=original
ATTENDEE;ROLE=REQ-PARTICIPANT;PARTSTAT=ACCEPTED;RSVP=TRUE;CN="Tasos Dr
 itsos":https://blues.gr/profile/Tasos
ATTENDEE;ROLE=REQ-PARTICIPANT;PARTSTAT=ACCEPTED;RSVP=TRUE;CN="Giannis 
 Pachidis":https://blues.gr/profile/ioannis
ATTENDEE;ROLE=REQ-PARTICIPANT;PARTSTAT=ACCEPTED;RSVP=TRUE;CN="dimitrio
 s doulgeridis":https://blues.gr/profile/dimitriosdoulgeridis
END:VEVENT
END:VCALENDAR
