BEGIN:VCALENDAR
PRODID:NingEventWidget-v1
VERSION:2.0
METHOD:PUBLISH
BEGIN:VTIMEZONE
TZID:Europe/Athens
X-LIC-LOCATION:Europe/Athens
BEGIN:DAYLIGHT
TZOFFSETFROM:+0200
TZOFFSETTO:+0300
TZNAME:EEST
DTSTART:19700329T030000
RRULE:FREQ=YEARLY;BYMONTH=3;BYDAY=-1SU
END:DAYLIGHT
BEGIN:STANDARD
TZOFFSETFROM:+0300
TZOFFSETTO:+0200
TZNAME:EET
DTSTART:19701025T040000
RRULE:FREQ=YEARLY;BYMONTH=10;BYDAY=-1SU
END:STANDARD
END:VTIMEZONE
BEGIN:VEVENT
UID:1982923:Event:154607
DTSTAMP:20260419T164057Z
SUMMARY:Blues Revenge new CD titled BLUES AIN'T MINOR (www.myspace.com
 /bluesrevenge)
DESCRIPTION:Το νέο CD των BLUES REVENGE με τίτλο BLUES 
 AIN’T MINOR είναι έτοιμο και κυκλοφορεί το
 ν Οκτώβριο του 2012.\nΗ διάθεση του CD θα γ
 νεται απο το Jazz Point Ακαδημίας 18 (εντός 
 τοάς) και από τα μέλη του συγκροτήματο
 ς στις ζωντανές εμφανίσεις ή μετά από 
 πικοινωνία μέσω διαδικτύου.\nΕίναι το 
 αποτέλεσμα μιας τρίωρης ζωντανής ηχογ
 ράφησης στο στούντιο. Η επιλογή να γίν
 ι ζωντανά η ηχογράφηση, χωρίς καμιά πρ
 οετοιμασία, σαν να παίζαμε σε κάποιο clu
 b ήταν συνειδητή, αφού πιστεύουμε ότι η
  ζωντάνια, η αμεσότητα αλλά και η αλληλ
 επίδραση μεταξύ των μουσικών που απαι
 εί  το παίξιμο αυτής της μουσικής, αξί
 ζουν περισσότερο από την όποια ηχητικ
  τελειότητα.\nΓια να γίνει το CD αυτό δο
 λεψαν και βοήθησαν κάποιοι άνθρωποι, 
 ους οποίους πρέπει να ευχαριστήσουμε.
  Πρώτον από όλους, τον φίλο μας και εξα
 ρετικό μουσικό Γιώργο Κοντραφούρη, πο
 υ συμμετείχε σ’ αυτήν την ηχογράφηση 
 αίζοντας hammond, αλλά και τον Βαγγέλη Κο
 ζάμπαση, ένα ταλαντούχο νέο drummer. Επίσ
 ς τον Κώστα Τσιαμερτζή για το στούντι
  που μας παραχώρησε και τον Μιχάλη Ζησ
 σίου για την δουλειά που έκανε στην επ
 ξεργασία του ήχου. Τέλος να ευχαριστή
 ουμε όλους εκείνους τους φίλους που μ
 ς στηρίζουν στις ζωντανές μας εμφανίσ
 εις.\nΒρείτε τε μας στο διαδίκτυο και ε
 ικοινωνήστε μαζί μας στις παρακάτω δι
 ευθύνσεις:          www.facebook.com/BluesRevenge\nw
 ww.myspace.com/BluesRevenge\n\nFor more information visit https://blue
 s.gr/events/blues-revenge-new-cd-titled-blues-ain-t-minor-www-myspace-
 com
DTSTART;TZID=Europe/Athens:20121001T180000
DTEND;TZID=Europe/Athens:20121031T190000
CATEGORIES:blues, live, gig
LOCATION:-
WEBSITE:
URL:
CONTACT:
ORGANIZER;CN="Tasos Dritsos":https://blues.gr/profile/Tasos
ATTACH;FMTTYPE="image/jpeg":http://storage.ning.com/topology/rest/1.0/
 file/get/2252991880?profile=original
ATTENDEE;ROLE=REQ-PARTICIPANT;PARTSTAT=ACCEPTED;RSVP=TRUE;CN="Tasos Dr
 itsos":https://blues.gr/profile/Tasos
END:VEVENT
END:VCALENDAR
