BEGIN:VCALENDAR
PRODID:NingEventWidget-v1
VERSION:2.0
METHOD:PUBLISH
BEGIN:VTIMEZONE
TZID:Europe/Athens
X-LIC-LOCATION:Europe/Athens
BEGIN:DAYLIGHT
TZOFFSETFROM:+0200
TZOFFSETTO:+0300
TZNAME:EEST
DTSTART:19700329T030000
RRULE:FREQ=YEARLY;BYMONTH=3;BYDAY=-1SU
END:DAYLIGHT
BEGIN:STANDARD
TZOFFSETFROM:+0300
TZOFFSETTO:+0200
TZNAME:EET
DTSTART:19701025T040000
RRULE:FREQ=YEARLY;BYMONTH=10;BYDAY=-1SU
END:STANDARD
END:VTIMEZONE
BEGIN:VEVENT
UID:1982923:Event:80258
DTSTAMP:20260421T222304Z
SUMMARY:Blues Revenge @ Vinilion Παρασκευή 26 Νοεμβρί
 υ, 11:00μμ, (www.myspace.com/bluesrevenge)
DESCRIPTION:Αντρέας Γκομόζιας (Κιθάρα, Τραγ
 ύδι),\nΤάσος Δρίτσος (Μπάσο),\nΧρήστος Α
 δριανός (Drums)\n\nFor more information visit https://blues.gr
 /events/blues-revenge-vinilion
DTSTART;TZID=Europe/Athens:20101126T000000
DTEND;TZID=Europe/Athens:20101127T235900
CATEGORIES:blues, live, gig
LOCATION:Vinilion, ΕΚΤΟΡΟΣ 92, ΙΛΙΟΝ
WEBSITE:http://www.vinilion.gr
URL:http://www.vinilion.gr
CONTACT:210 2692640
ORGANIZER;CN="Tasos Dritsos":https://blues.gr/profile/Tasos
ATTACH;FMTTYPE="image/jpeg":http://storage.ning.com/topology/rest/1.0/
 file/get/2252939443?profile=original
ATTENDEE;ROLE=REQ-PARTICIPANT;PARTSTAT=ACCEPTED;RSVP=TRUE;CN="Drummati
 c Style":https://blues.gr/profile/style
ATTENDEE;ROLE=REQ-PARTICIPANT;PARTSTAT=ACCEPTED;RSVP=TRUE;CN="Tsiamtsi
 kas Nikolaos":https://blues.gr/profile/TsiamtsikasNikolaos
ATTENDEE;ROLE=REQ-PARTICIPANT;PARTSTAT=ACCEPTED;RSVP=TRUE;CN="Tasos Dr
 itsos":https://blues.gr/profile/Tasos
ATTENDEE;ROLE=REQ-PARTICIPANT;PARTSTAT=ACCEPTED;RSVP=TRUE;CN="Giannis 
 Pachidis":https://blues.gr/profile/ioannis
ATTENDEE;ROLE=REQ-PARTICIPANT;PARTSTAT=TENTATIVE;RSVP=TRUE;CN="JOHN AN
 GELATOS-Red Rooster Prod.":https://blues.gr/profile/JohnAngelatos
ATTENDEE;ROLE=REQ-PARTICIPANT;PARTSTAT=TENTATIVE;RSVP=TRUE;CN="Antonis
  Kanaris":https://blues.gr/profile/AntonisKanaris
END:VEVENT
END:VCALENDAR
