BEGIN:VCALENDAR
PRODID:NingEventWidget-v1
VERSION:2.0
METHOD:PUBLISH
BEGIN:VTIMEZONE
TZID:Europe/Athens
X-LIC-LOCATION:Europe/Athens
BEGIN:DAYLIGHT
TZOFFSETFROM:+0200
TZOFFSETTO:+0300
TZNAME:EEST
DTSTART:19700329T030000
RRULE:FREQ=YEARLY;BYMONTH=3;BYDAY=-1SU
END:DAYLIGHT
BEGIN:STANDARD
TZOFFSETFROM:+0300
TZOFFSETTO:+0200
TZNAME:EET
DTSTART:19701025T040000
RRULE:FREQ=YEARLY;BYMONTH=10;BYDAY=-1SU
END:STANDARD
END:VTIMEZONE
BEGIN:VEVENT
UID:1982923:Event:51812
DTSTAMP:20260423T043304Z
SUMMARY:Blues Revenge -with George Panousis on Harmonica @ Joke Cafe B
 ar (www.myspace.com/bluesrevenge)
DESCRIPTION:Blues Live στο Joke Cafe bar : Αντρέας Γκομ
 ζιας (Κιθάρα, Τραγούδι), Τάσος Δρίτσος 
 (Κοντραμπάσο), Ζαφείρης Τσίναλης (Drums) κ
 αι ο Γιώργος Πανούσης (Φυσαρμόνικα)\n\nFo
 r more information visit https://blues.gr/events/blues-revenge-with-ge
 orge
DTSTART;TZID=Europe/Athens:20100418T220000
DTEND;TZID=Europe/Athens:20100418T230000
CATEGORIES:live, blues
LOCATION:Joke cafe bar, Ομήρου 13, Αθήνα, 210 3646026
WEBSITE:
URL:
CONTACT:210 3646026
ORGANIZER;CN="Tasos Dritsos":https://blues.gr/profile/Tasos
ATTACH;FMTTYPE="image/jpeg":http://storage.ning.com/topology/rest/1.0/
 file/get/2252939443?profile=original
ATTENDEE;ROLE=REQ-PARTICIPANT;PARTSTAT=ACCEPTED;RSVP=TRUE;CN="Tasos Dr
 itsos":https://blues.gr/profile/Tasos
END:VEVENT
END:VCALENDAR
