BEGIN:VCALENDAR
PRODID:NingEventWidget-v1
VERSION:2.0
METHOD:PUBLISH
BEGIN:VTIMEZONE
TZID:Europe/Athens
X-LIC-LOCATION:Europe/Athens
BEGIN:DAYLIGHT
TZOFFSETFROM:+0200
TZOFFSETTO:+0300
TZNAME:EEST
DTSTART:19700329T030000
RRULE:FREQ=YEARLY;BYMONTH=3;BYDAY=-1SU
END:DAYLIGHT
BEGIN:STANDARD
TZOFFSETFROM:+0300
TZOFFSETTO:+0200
TZNAME:EET
DTSTART:19701025T040000
RRULE:FREQ=YEARLY;BYMONTH=10;BYDAY=-1SU
END:STANDARD
END:VTIMEZONE
BEGIN:VEVENT
UID:1982923:Event:41002
DTSTAMP:20260422T004517Z
SUMMARY:BLUES ROCK NIGHTS
DESCRIPTION:NICK GRAVENITES\nNICK & THE BACKBONE\nANGELA BROWN\nBLUES 
 WIRE\n\n\n\n\n\n\n\n\n\nFor more information visit https://blues.gr/ev
 ents/blues-rock-nights
DTSTART;TZID=Europe/Athens:20100226T220000
DTEND;TZID=Europe/Athens:20100227T020000
CATEGORIES:blues, "&", rock
LOCATION:ΚΥΤΤΑΡΟ
WEBSITE:
URL:
CONTACT:210 8224134
ORGANIZER;CN="JOHN ANGELATOS-Red Rooster Prod.":https://blues.gr/profi
 le/JohnAngelatos
ATTACH;FMTTYPE="image/jpeg":http://storage.ning.com/topology/rest/1.0/
 file/get/2252939160?profile=original
ATTENDEE;ROLE=REQ-PARTICIPANT;PARTSTAT=ACCEPTED;RSVP=TRUE;CN="Tsiamtsi
 kas Nikolaos":https://blues.gr/profile/TsiamtsikasNikolaos
ATTENDEE;ROLE=REQ-PARTICIPANT;PARTSTAT=ACCEPTED;RSVP=TRUE;CN="JOHN ANG
 ELATOS-Red Rooster Prod.":https://blues.gr/profile/JohnAngelatos
END:VEVENT
END:VCALENDAR
