BEGIN:VCALENDAR
PRODID:NingEventWidget-v1
VERSION:2.0
METHOD:PUBLISH
BEGIN:VTIMEZONE
TZID:Europe/Athens
X-LIC-LOCATION:Europe/Athens
BEGIN:DAYLIGHT
TZOFFSETFROM:+0200
TZOFFSETTO:+0300
TZNAME:EEST
DTSTART:19700329T030000
RRULE:FREQ=YEARLY;BYMONTH=3;BYDAY=-1SU
END:DAYLIGHT
BEGIN:STANDARD
TZOFFSETFROM:+0300
TZOFFSETTO:+0200
TZNAME:EET
DTSTART:19701025T040000
RRULE:FREQ=YEARLY;BYMONTH=10;BYDAY=-1SU
END:STANDARD
END:VTIMEZONE
BEGIN:VEVENT
UID:1982923:Event:135309
DTSTAMP:20260424T132943Z
SUMMARY:BLUES THERAPY..LIVE AT IN VIVO..FEAT ACROJAZZQUARTET..GUEST.. 
 TONY LAZOS ..SAX..
DESCRIPTION:LIVE\n\nFor more information visit https://blues.gr/events
 /blues-therapy-live-at-in-vivo-feat-acrojazzquartet
DTSTART;TZID=Europe/Athens:20120203T220000
DTEND;TZID=Europe/Athens:20120204T120000
CATEGORIES:"jazz..blues"
LOCATION:IN VIVO
WEBSITE:
URL:
CONTACT:
ORGANIZER;CN="tony dollaro":https://blues.gr/profile/tonydollaro
ATTACH;FMTTYPE="image/jpeg":http://storage.ning.com/topology/rest/1.0/
 file/get/2166129069?profile=original
ATTENDEE;ROLE=REQ-PARTICIPANT;PARTSTAT=ACCEPTED;RSVP=TRUE;CN="tony dol
 laro":https://blues.gr/profile/tonydollaro
ATTENDEE;ROLE=REQ-PARTICIPANT;PARTSTAT=ACCEPTED;RSVP=TRUE;CN="BILL ANA
 STASIADIS":https://blues.gr/profile/BILLANASTASIADIS
END:VEVENT
END:VCALENDAR
