BEGIN:VCALENDAR
PRODID:NingEventWidget-v1
VERSION:2.0
METHOD:PUBLISH
BEGIN:VTIMEZONE
TZID:Europe/Athens
X-LIC-LOCATION:Europe/Athens
BEGIN:DAYLIGHT
TZOFFSETFROM:+0200
TZOFFSETTO:+0300
TZNAME:EEST
DTSTART:19700329T030000
RRULE:FREQ=YEARLY;BYMONTH=3;BYDAY=-1SU
END:DAYLIGHT
BEGIN:STANDARD
TZOFFSETFROM:+0300
TZOFFSETTO:+0200
TZNAME:EET
DTSTART:19701025T040000
RRULE:FREQ=YEARLY;BYMONTH=10;BYDAY=-1SU
END:STANDARD
END:VTIMEZONE
BEGIN:VEVENT
UID:1982923:Event:17440
DTSTAMP:20260423T060328Z
SUMMARY:BLUES THERAPY LIVE AT THE GHOST HOUSE
DESCRIPTION:BLUES THERAPY (ΤΟΝΥ DOLLARO -ΚΙΘ. ΦΩΝΗ , ΣΠΥ
 ΡΟΣ ΠΑΡΑΣΚΕΥΟΠΟΥΛΟΣ -ΚΙΘ. ΦΩΝΗ , ΝΩΝΤΑΣ
  ΒΟΡΛΩΚΑΣ - ΦΥΣΑΡΜΟΝΙΚΑ, ΦΩΝΗ , ΣΠΥΡΟΣ Γ
 ΑΒΑΛΑΣ - ΝΤΡΑΜΣ , ΤΑΣΟΣ ΔΡΙΤΣΟΣ - ΜΠΑΣΣΟ
 ) SPECIAL GUESTS : MICHAEL DOTSON , ΔΗΜΗΤΡΗΣ ΙΩΑΝΝΟΥ. L
 IVE, ELECTRIC CHICAGO FUNK BLUES ΣΤΟ GHOST HOUSE.\n\nFor more infor
 mation visit https://blues.gr/events/blues-therapy-live-at-the
DTSTART;TZID=Europe/Athens:20090305T220000
DTEND;TZID=Europe/Athens:20090306T003000
CATEGORIES:gig
LOCATION:GHOST HOUSE
WEBSITE:
URL:
CONTACT:
ORGANIZER:\"DOWN HOME\" NONDAS
ATTACH;FMTTYPE="image/jpeg":http://storage.ning.com/topology/rest/1.0/
 file/get/2252935919?profile=original
ATTENDEE;ROLE=REQ-PARTICIPANT;PARTSTAT=ACCEPTED;RSVP=TRUE;CN="Dimitris
  Ioannou":https://blues.gr/profile/DimitrisIoannou
ATTENDEE;ROLE=REQ-PARTICIPANT;PARTSTAT=ACCEPTED;RSVP=TRUE;CN="tony dol
 laro":https://blues.gr/profile/tonydollaro
ATTENDEE;ROLE=REQ-PARTICIPANT;PARTSTAT=ACCEPTED;RSVP=TRUE;CN="DOWN HOM
 E NONDAS":https://blues.gr/profile/NONDAS
ATTENDEE;ROLE=REQ-PARTICIPANT;PARTSTAT=TENTATIVE;RSVP=TRUE;CN="George 
 \"Whiskey\" Stefanakis":https://blues.gr/profile/GeorgeStefanakis
END:VEVENT
END:VCALENDAR
