BEGIN:VCALENDAR
PRODID:NingEventWidget-v1
VERSION:2.0
METHOD:PUBLISH
BEGIN:VTIMEZONE
TZID:Europe/Athens
X-LIC-LOCATION:Europe/Athens
BEGIN:DAYLIGHT
TZOFFSETFROM:+0200
TZOFFSETTO:+0300
TZNAME:EEST
DTSTART:19700329T030000
RRULE:FREQ=YEARLY;BYMONTH=3;BYDAY=-1SU
END:DAYLIGHT
BEGIN:STANDARD
TZOFFSETFROM:+0300
TZOFFSETTO:+0200
TZNAME:EET
DTSTART:19701025T040000
RRULE:FREQ=YEARLY;BYMONTH=10;BYDAY=-1SU
END:STANDARD
END:VTIMEZONE
BEGIN:VEVENT
UID:1982923:Event:25729
DTSTAMP:20260425T131904Z
SUMMARY:BLUES THERAPY LIVE ΣΤΟ LAZY.
DESCRIPTION:BLUES THERAPY (ΤΟΝΥ DOLLARO -ΚΙΘ. ΦΩΝΗ , ΣΠΥ
 ΡΟΣ ΠΑΡΑΣΚΕΥΟΠΟΥΛΟΣ -ΚΙΘ. ΦΩΝΗ , \"DOWN HOME\
 " ΝΩΝΤΑΣ ΒΟΡΛΩΚΑΣ - ΦΥΣΑΡΜΟΝΙΚΑ, ΦΩΝΗ , 
 ΠΥΡΟΣ ΓΑΒΑΛΑΣ - ΝΤΡΑΜΣ , ΤΑΣΟΣ ΔΡΙΤΣΟΣ 
 - ΜΠΑΣΣΟ) ELECTRIC CHICAGO FUNK BLUES ΣΤΟ LAZY. SUPPORT BAND 
 ΟΙ LOOSE RAG.\nΕΝΑΡΞΗ 10:00.\n\nFor more information visit htt
 ps://blues.gr/events/blues-therapy-live-sto-lazy
DTSTART;TZID=Europe/Athens:20090517T000000
DTEND;TZID=Europe/Athens:20090517T235900
CATEGORIES:gig
LOCATION:LAZY CLUB
WEBSITE:
URL:
CONTACT:
ORGANIZER;CN="DOWN HOME NONDAS":https://blues.gr/profile/NONDAS
ATTACH;FMTTYPE="image/jpeg":http://storage.ning.com/topology/rest/1.0/
 file/get/2252937095?profile=original
ATTENDEE;ROLE=REQ-PARTICIPANT;PARTSTAT=ACCEPTED;RSVP=TRUE;CN=Audiokost
 as:https://blues.gr/profile/Audiokostas
ATTENDEE;ROLE=REQ-PARTICIPANT;PARTSTAT=ACCEPTED;RSVP=TRUE;CN="tony dol
 laro":https://blues.gr/profile/tonydollaro
ATTENDEE;ROLE=REQ-PARTICIPANT;PARTSTAT=ACCEPTED;RSVP=TRUE;CN="DOWN HOM
 E NONDAS":https://blues.gr/profile/NONDAS
END:VEVENT
END:VCALENDAR
