BEGIN:VCALENDAR
PRODID:NingEventWidget-v1
VERSION:2.0
METHOD:PUBLISH
BEGIN:VTIMEZONE
TZID:Europe/Athens
X-LIC-LOCATION:Europe/Athens
BEGIN:DAYLIGHT
TZOFFSETFROM:+0200
TZOFFSETTO:+0300
TZNAME:EEST
DTSTART:19700329T030000
RRULE:FREQ=YEARLY;BYMONTH=3;BYDAY=-1SU
END:DAYLIGHT
BEGIN:STANDARD
TZOFFSETFROM:+0300
TZOFFSETTO:+0200
TZNAME:EET
DTSTART:19701025T040000
RRULE:FREQ=YEARLY;BYMONTH=10;BYDAY=-1SU
END:STANDARD
END:VTIMEZONE
BEGIN:VEVENT
UID:1982923:Event:129706
DTSTAMP:20260421T170400Z
SUMMARY:BLUES THERAPY WITH THE MOONSTONE COMBO..LIVE AT SIROCCO'S PIAN
 O RESTAURANT..GUEST SAXY BEE..
DESCRIPTION:LIVE\n\nFor more information visit https://blues.gr/events
 /blues-therapy-with-the-moonstone-combo-live-at-sirocco-s-piano
DTSTART;TZID=Europe/Athens:20111223T223000
DTEND;TZID=Europe/Athens:20111224T013000
CATEGORIES:"live..blues.rock", "chicago.."
LOCATION:Sirocco's Piano Restaurant DIADOXOY PAYLOY 35, Glyfáda, Gree
 ce
WEBSITE:
URL:
CONTACT:210 8942 403
ORGANIZER:MOONSTONE COMBO
ATTACH;FMTTYPE="image/jpeg":http://storage.ning.com/topology/rest/1.0/
 file/get/2166133148?profile=original
ATTENDEE;ROLE=REQ-PARTICIPANT;PARTSTAT=ACCEPTED;RSVP=TRUE;CN="George \
 "Whiskey\" Stefanakis":https://blues.gr/profile/GeorgeStefanakis
ATTENDEE;ROLE=REQ-PARTICIPANT;PARTSTAT=ACCEPTED;RSVP=TRUE;CN="Drummati
 c Style":https://blues.gr/profile/style
ATTENDEE;ROLE=REQ-PARTICIPANT;PARTSTAT=ACCEPTED;RSVP=TRUE;CN="tony dol
 laro":https://blues.gr/profile/tonydollaro
END:VEVENT
END:VCALENDAR
