BEGIN:VCALENDAR
PRODID:NingEventWidget-v1
VERSION:2.0
METHOD:PUBLISH
BEGIN:VTIMEZONE
TZID:Europe/Athens
X-LIC-LOCATION:Europe/Athens
BEGIN:DAYLIGHT
TZOFFSETFROM:+0200
TZOFFSETTO:+0300
TZNAME:EEST
DTSTART:19700329T030000
RRULE:FREQ=YEARLY;BYMONTH=3;BYDAY=-1SU
END:DAYLIGHT
BEGIN:STANDARD
TZOFFSETFROM:+0300
TZOFFSETTO:+0200
TZNAME:EET
DTSTART:19701025T040000
RRULE:FREQ=YEARLY;BYMONTH=10;BYDAY=-1SU
END:STANDARD
END:VTIMEZONE
BEGIN:VEVENT
UID:1982923:Event:129807
DTSTAMP:20260424T084356Z
SUMMARY:Blues Track & Reissue
DESCRIPTION:Blues track & Reissue - Rock ‘n Roll & BluesΔύο συ
 κροτήματα έτοιμα να σας οδηγήσουν  στ
 η χώρα της διασκέδασης .Με κλασικό  Rock 
 n Roll που ξεσηκώνει και με επιρροές από 
 ον παράδεισο της  blues μουσικής, σας υπ
 σχονται  ένα τέλειο μουσικό ταξίδι!!!Ώ
 ρα έναρξης: 10:00\n\n\nFor more information visit https://blu
 es.gr/events/blues-track-reissue
DTSTART;TZID=Europe/Athens:20111217T000000
DTEND;TZID=Europe/Athens:20111217T235900
CATEGORIES:blues, "rock'n'roll"
LOCATION:Mike's Irish Bar
WEBSITE:http://www.bluestrackers.gr/
URL:http://www.bluestrackers.gr/
CONTACT:210-7776797
ORGANIZER:Mike's Irish Bar
ATTACH;FMTTYPE="image/jpeg":http://storage.ning.com/topology/rest/1.0/
 file/get/2252963839?profile=original
ATTENDEE;ROLE=REQ-PARTICIPANT;PARTSTAT=ACCEPTED;RSVP=TRUE;CN="Music Ne
 twork by Michael Limnios":https://blues.gr/profile/MichalisLimnios
END:VEVENT
END:VCALENDAR
