BEGIN:VCALENDAR
PRODID:NingEventWidget-v1
VERSION:2.0
METHOD:PUBLISH
BEGIN:VTIMEZONE
TZID:Europe/Athens
X-LIC-LOCATION:Europe/Athens
BEGIN:DAYLIGHT
TZOFFSETFROM:+0200
TZOFFSETTO:+0300
TZNAME:EEST
DTSTART:19700329T030000
RRULE:FREQ=YEARLY;BYMONTH=3;BYDAY=-1SU
END:DAYLIGHT
BEGIN:STANDARD
TZOFFSETFROM:+0300
TZOFFSETTO:+0200
TZNAME:EET
DTSTART:19701025T040000
RRULE:FREQ=YEARLY;BYMONTH=10;BYDAY=-1SU
END:STANDARD
END:VTIMEZONE
BEGIN:VEVENT
UID:1982923:Event:130338
DTSTAMP:20260424T084523Z
SUMMARY:BLUES TRACKERS LIVE
DESCRIPTION:Παρουσίαση νέου δίσκου!\n\nFor more in
 formation visit https://blues.gr/events/blues-trackers-live-1
DTSTART;TZID=Europe/Athens:20111216T230000
DTEND;TZID=Europe/Athens:20111217T140000
CATEGORIES:live
LOCATION:ΑΕΡΙΝΟ
WEBSITE:
URL:
CONTACT:
ORGANIZER:BLUES TRACKERS
ATTACH;FMTTYPE="image/jpeg":http://storage.ning.com/topology/rest/1.0/
 file/get/2252963307?profile=original
ATTENDEE;ROLE=REQ-PARTICIPANT;PARTSTAT=ACCEPTED;RSVP=TRUE;CN="Jeronimo
  Brothers":https://blues.gr/profile/JeronimoBrothers
END:VEVENT
END:VCALENDAR
