BEGIN:VCALENDAR
PRODID:NingEventWidget-v1
VERSION:2.0
METHOD:PUBLISH
BEGIN:VTIMEZONE
TZID:Europe/Athens
X-LIC-LOCATION:Europe/Athens
BEGIN:DAYLIGHT
TZOFFSETFROM:+0200
TZOFFSETTO:+0300
TZNAME:EEST
DTSTART:19700329T030000
RRULE:FREQ=YEARLY;BYMONTH=3;BYDAY=-1SU
END:DAYLIGHT
BEGIN:STANDARD
TZOFFSETFROM:+0300
TZOFFSETTO:+0200
TZNAME:EET
DTSTART:19701025T040000
RRULE:FREQ=YEARLY;BYMONTH=10;BYDAY=-1SU
END:STANDARD
END:VTIMEZONE
BEGIN:VEVENT
UID:1982923:Event:133395
DTSTAMP:20260421T151556Z
SUMMARY:BLUES TRACKERS LIVE
DESCRIPTION:Παρουσίαση καινούριου δίσκου \"S
 mells like trouble\".\n\n\nFor more information visit https://blues.gr
 /events/blues-trackers-live-2
DTSTART;TZID=Europe/Athens:20120120T230000
DTEND;TZID=Europe/Athens:20120121T140000
CATEGORIES:live
LOCATION:CAFE SANTAN
WEBSITE:
URL:
CONTACT:
ORGANIZER;CN="Marios Spiliotopoulos":https://blues.gr/profile/MariosSp
 iliotopoulos
ATTACH;FMTTYPE="image/jpeg":http://storage.ning.com/topology/rest/1.0/
 file/get/2252963307?profile=original
ATTENDEE;ROLE=REQ-PARTICIPANT;PARTSTAT=ACCEPTED;RSVP=TRUE;CN="Marios S
 piliotopoulos":https://blues.gr/profile/MariosSpiliotopoulos
END:VEVENT
END:VCALENDAR
