BEGIN:VCALENDAR
PRODID:NingEventWidget-v1
VERSION:2.0
METHOD:PUBLISH
BEGIN:VTIMEZONE
TZID:Europe/Athens
X-LIC-LOCATION:Europe/Athens
BEGIN:DAYLIGHT
TZOFFSETFROM:+0200
TZOFFSETTO:+0300
TZNAME:EEST
DTSTART:19700329T030000
RRULE:FREQ=YEARLY;BYMONTH=3;BYDAY=-1SU
END:DAYLIGHT
BEGIN:STANDARD
TZOFFSETFROM:+0300
TZOFFSETTO:+0200
TZNAME:EET
DTSTART:19701025T040000
RRULE:FREQ=YEARLY;BYMONTH=10;BYDAY=-1SU
END:STANDARD
END:VTIMEZONE
BEGIN:VEVENT
UID:1982923:Event:41871
DTSTAMP:20260421T225518Z
SUMMARY:Blues Trackers live at NAMA Larissa
DESCRIPTION:Blues Trackers live at NAMA Larissa\n\n\nFor more informat
 ion visit https://blues.gr/events/blues-trackers-live-at-nama
DTSTART;TZID=Europe/Athens:20100225T180000
DTEND;TZID=Europe/Athens:20100226T190000
CATEGORIES:gig
LOCATION:larissa
WEBSITE:
URL:
CONTACT:
ORGANIZER;CN="Panos Badikouthis":https://blues.gr/profile/PanosBadikou
 this
ATTACH;FMTTYPE="image/jpeg":http://storage.ning.com/topology/rest/1.0/
 file/get/2252939120?profile=original
ATTENDEE;ROLE=REQ-PARTICIPANT;PARTSTAT=ACCEPTED;RSVP=TRUE;CN="Panos Ba
 dikouthis":https://blues.gr/profile/PanosBadikouthis
END:VEVENT
END:VCALENDAR
