BEGIN:VCALENDAR
PRODID:NingEventWidget-v1
VERSION:2.0
METHOD:PUBLISH
BEGIN:VTIMEZONE
TZID:Europe/Athens
X-LIC-LOCATION:Europe/Athens
BEGIN:DAYLIGHT
TZOFFSETFROM:+0200
TZOFFSETTO:+0300
TZNAME:EEST
DTSTART:19700329T030000
RRULE:FREQ=YEARLY;BYMONTH=3;BYDAY=-1SU
END:DAYLIGHT
BEGIN:STANDARD
TZOFFSETFROM:+0300
TZOFFSETTO:+0200
TZNAME:EET
DTSTART:19701025T040000
RRULE:FREQ=YEARLY;BYMONTH=10;BYDAY=-1SU
END:STANDARD
END:VTIMEZONE
BEGIN:VEVENT
UID:1982923:Event:110643
DTSTAMP:20260424T123524Z
SUMMARY:Blues Wire & Απροσάρμοστοι
DESCRIPTION:ΕΙΣΟΔΟΣ: 15 € (στην τιμή της εισό
 ου συμπεριλαμβάνεται μπύρα ή κρασί) Μ
 α σπάνια καλλιτεχνική συνύπαρξη, ένα 
 εχωριστό live happening στο Κυτταρο Live.Οι Blues
  Wire, ..κατά πολλούς κορυφαία και πιο ιστ
 ορική μπλουζ μπάντα στην Ελλάδα, από τ
  δύσκολα χρόνια των μέσων της δεκαετί
 ς του 80, τότε που ο Ηλίας Ζάικος παρέα 
 ε τον Σωτήρη Ζήση δημιουργούσαν τους B
 lues Gang, πρόγονους των Blues Wire, στο πρώτο blu
 es lp που έγινε στη χώρα μας (!!!) και κατόπ
 ιν στην  αναγνώριση και στις διεθνής ε
 μφανίσεις, δηλώνουν και δείχνουν, πίστ
 η και αφοσίωση, στις αλήθειες και το πν
 εύμα που τους ενέπνευσε και παρακίνησ
  από την πρώτη στιγμή...Οι καταξιωμένο
  πλέον Blues Wire, με ..αμέτρητες ζωντανές ε
 μφανίσεις  στο ενεργητικό τους, με δια
 κρίσεις εντός και εκτός συνόρων και συ
 νεργασίες (Louisiana Red, Angela Brown, Big time Sarah) κα
  oppen acts  (Buddy Guy, Albert King κ. α) με «ιερά τέρ
 τα» της παγκόσμιας σκηνής ,  «κατεβαί
 ουν» από την Θεσσαλονίκη και συναντάν
 ε στη σκηνή του Κυττάρου τους «Απροσάρ
 μοστους»! Ένα σύγχρονο μύθο της εγχώρι
 ας σκηνής, τη μουσική και όχι μόνο παρέ
 α του μεγάλου Παύλου Σιδηρόπουλου, τρε
 ις δεξιοτέχνες μουσικοί και συνθέτες -
  Οδυσσέας Γαλανάκης (κιθάρα), Αλέκος Αρ
 άπης (μπάσο), Κυριάκος Δαρίβας (τύμπανα
 ) -  που ανανεώνουν και εξελίσσουν τόσο
  πετυχημένα μια τεραστία και πάντα επί
 καιρη μουσική κληρονομιά.\n\nFor more informatio
 n visit https://blues.gr/events/blues-wire-1
DTSTART;TZID=Europe/Athens:20111027T220000
DTEND;TZID=Europe/Athens:20111028T020000
CATEGORIES:live
LOCATION:Κύτταρο
WEBSITE:
URL:
CONTACT:210-8224134
ORGANIZER:Κύτταρο
ATTACH;FMTTYPE="image/jpeg":http://storage.ning.com/topology/rest/1.0/
 file/get/2252953562?profile=original
ATTENDEE;ROLE=REQ-PARTICIPANT;PARTSTAT=ACCEPTED;RSVP=TRUE;CN="Giannis 
 Pachidis":https://blues.gr/profile/ioannis
ATTENDEE;ROLE=REQ-PARTICIPANT;PARTSTAT=ACCEPTED;RSVP=TRUE;CN="Music Ne
 twork by Michael Limnios":https://blues.gr/profile/MichalisLimnios
ATTENDEE;ROLE=REQ-PARTICIPANT;PARTSTAT=TENTATIVE;RSVP=TRUE;CN="Dimitri
 s Ioannou":https://blues.gr/profile/DimitrisIoannou
END:VEVENT
END:VCALENDAR
