BEGIN:VCALENDAR
PRODID:NingEventWidget-v1
VERSION:2.0
METHOD:PUBLISH
BEGIN:VTIMEZONE
TZID:Europe/Athens
X-LIC-LOCATION:Europe/Athens
BEGIN:DAYLIGHT
TZOFFSETFROM:+0200
TZOFFSETTO:+0300
TZNAME:EEST
DTSTART:19700329T030000
RRULE:FREQ=YEARLY;BYMONTH=3;BYDAY=-1SU
END:DAYLIGHT
BEGIN:STANDARD
TZOFFSETFROM:+0300
TZOFFSETTO:+0200
TZNAME:EET
DTSTART:19701025T040000
RRULE:FREQ=YEARLY;BYMONTH=10;BYDAY=-1SU
END:STANDARD
END:VTIMEZONE
BEGIN:VEVENT
UID:1982923:Event:129452
DTSTAMP:20260426T064947Z
SUMMARY:Blues Wire @ Χαλκίδα
DESCRIPTION:The Blues Wire story began in 1983 when Sotiris Zisis (bas
 s) and Elias Zaikos formed Blues Gang (who renamed themselves as Blu
 es Wire in 1985), the very first blues band in Greece that tried to ca
 pture the original sounds of blues legends like Muddy Waters, Howling 
 Wolf and T-Bone Walker. They recorded the first blues album ever to be
  made by Greek musicians, at a time when it was really difficult to pl
 ay music without obvious roots in Greek culture, let alone get a recor
 d deal for it. Back then, playing the blues not only could make someon
 e almost an outcast, but it also meant dealing with shady characters a
 nd going through hard times. The only ways for a blues band to go thro
 ugh these times was to be tough, determined and stay true to the spiri
 t that moved them in the first place.\nIt was these qualities that saw
  Blues Wire rise from a struggling blues band to full-grown, seasoned 
 artists with their own distinctive sound.\n\n\n\nFor more information 
 visit https://blues.gr/events/blues-wire-3
DTSTART;TZID=Europe/Athens:20111221T000000
DTEND;TZID=Europe/Athens:20111221T235900
CATEGORIES:blues
LOCATION:Οδός Ονείρων
WEBSITE:
URL:
CONTACT:
ORGANIZER:Οδός Ονείρων
ATTACH;FMTTYPE="image/jpeg":http://storage.ning.com/topology/rest/1.0/
 file/get/2252961744?profile=original
ATTENDEE;ROLE=REQ-PARTICIPANT;PARTSTAT=ACCEPTED;RSVP=TRUE;CN="Music Ne
 twork by Michael Limnios":https://blues.gr/profile/MichalisLimnios
END:VEVENT
END:VCALENDAR
