BEGIN:VCALENDAR
PRODID:NingEventWidget-v1
VERSION:2.0
METHOD:PUBLISH
BEGIN:VTIMEZONE
TZID:Europe/Athens
X-LIC-LOCATION:Europe/Athens
BEGIN:DAYLIGHT
TZOFFSETFROM:+0200
TZOFFSETTO:+0300
TZNAME:EEST
DTSTART:19700329T030000
RRULE:FREQ=YEARLY;BYMONTH=3;BYDAY=-1SU
END:DAYLIGHT
BEGIN:STANDARD
TZOFFSETFROM:+0300
TZOFFSETTO:+0200
TZNAME:EET
DTSTART:19701025T040000
RRULE:FREQ=YEARLY;BYMONTH=10;BYDAY=-1SU
END:STANDARD
END:VTIMEZONE
BEGIN:VEVENT
UID:1982923:Event:82716
DTSTAMP:20260421T183537Z
SUMMARY:BLUES WIRE - BLUES CARGO ... Live at VINILION
DESCRIPTION:\n\nΣτις 18 του Δεκέμβρη,\nδύο θρυλ
 κές μπλουζ μπάντες με ιστορία άνω των 
 25 ετών, οι Blues Wire και οι Blues Cargo τζαμάρου
  παρέα για πρώτη φορά ώστε όλοι μαζί ν
  ταξιδέψουμε στο Chicago του Muddy Waters, του Ho
 wlin' Wolf και του Buddy Guy. Μαζί τους εκλεκτοί
  προσκεκλημένοι που θα ανέβουν στο πάλ
 κο σε ένα open jam σετ…\n\nFor more information visit http
 s://blues.gr/events/blues-wire-blues-cargo-live
DTSTART;TZID=Europe/Athens:20101218T000000
DTEND;TZID=Europe/Athens:20101218T235900
CATEGORIES:blues, "that's", all
LOCATION:VINILION
WEBSITE:
URL:
CONTACT:210-2692640
ORGANIZER:VINILION CLUB
ATTACH;FMTTYPE="image/jpeg":http://storage.ning.com/topology/rest/1.0/
 file/get/2252945406?profile=original
ATTENDEE;ROLE=REQ-PARTICIPANT;PARTSTAT=ACCEPTED;RSVP=TRUE;CN="pantelad
 is theodor":https://blues.gr/profile/panteladistheodor
ATTENDEE;ROLE=REQ-PARTICIPANT;PARTSTAT=ACCEPTED;RSVP=TRUE;CN="Tsiamtsi
 kas Nikolaos":https://blues.gr/profile/TsiamtsikasNikolaos
ATTENDEE;ROLE=REQ-PARTICIPANT;PARTSTAT=ACCEPTED;RSVP=TRUE;CN="Giannis 
 Pachidis":https://blues.gr/profile/ioannis
ATTENDEE;ROLE=REQ-PARTICIPANT;PARTSTAT=ACCEPTED;RSVP=TRUE;CN="Dimitris
  Ioannou":https://blues.gr/profile/DimitrisIoannou
ATTENDEE;ROLE=REQ-PARTICIPANT;PARTSTAT=ACCEPTED;RSVP=TRUE;CN="Small Bl
 ues Trap":https://blues.gr/profile/SmallBluesTrap
END:VEVENT
END:VCALENDAR
