BEGIN:VCALENDAR
PRODID:NingEventWidget-v1
VERSION:2.0
METHOD:PUBLISH
BEGIN:VTIMEZONE
TZID:Europe/Athens
X-LIC-LOCATION:Europe/Athens
BEGIN:DAYLIGHT
TZOFFSETFROM:+0200
TZOFFSETTO:+0300
TZNAME:EEST
DTSTART:19700329T030000
RRULE:FREQ=YEARLY;BYMONTH=3;BYDAY=-1SU
END:DAYLIGHT
BEGIN:STANDARD
TZOFFSETFROM:+0300
TZOFFSETTO:+0200
TZNAME:EET
DTSTART:19701025T040000
RRULE:FREQ=YEARLY;BYMONTH=10;BYDAY=-1SU
END:STANDARD
END:VTIMEZONE
BEGIN:VEVENT
UID:1982923:Event:56349
DTSTAMP:20260420T160713Z
SUMMARY:BLUES WIRE @ gaialive
DESCRIPTION:SUPPORT BAND: ROCKBONE\nTICKETS: 5 Euros!!!\nPlus guests &
  friends!\n\nFor more information visit https://blues.gr/events/blues-
 wire-gaialive
DTSTART;TZID=Europe/Athens:20100515T230000
DTEND;TZID=Europe/Athens:20100516T140000
CATEGORIES:concert
LOCATION:GAIALIVE
WEBSITE:
URL:
CONTACT:
ORGANIZER;CN="elias zaikos":https://blues.gr/profile/eliaszaikos
ATTACH;FMTTYPE="image/jpeg":http://storage.ning.com/topology/rest/1.0/
 file/get/2252942995?profile=original
ATTENDEE;ROLE=REQ-PARTICIPANT;PARTSTAT=ACCEPTED;RSVP=TRUE;CN="Dimitris
  Margaritis":https://blues.gr/profile/DimitrisMargaritis
ATTENDEE;ROLE=REQ-PARTICIPANT;PARTSTAT=ACCEPTED;RSVP=TRUE;CN=MALIAS:ht
 tps://blues.gr/profile/MALIAS
ATTENDEE;ROLE=REQ-PARTICIPANT;PARTSTAT=ACCEPTED;RSVP=TRUE;CN="Big Mo":
 https://blues.gr/profile/BigMo
ATTENDEE;ROLE=REQ-PARTICIPANT;PARTSTAT=ACCEPTED;RSVP=TRUE;CN="elias za
 ikos":https://blues.gr/profile/eliaszaikos
END:VEVENT
END:VCALENDAR
