BEGIN:VCALENDAR
PRODID:NingEventWidget-v1
VERSION:2.0
METHOD:PUBLISH
BEGIN:VTIMEZONE
TZID:Europe/Athens
X-LIC-LOCATION:Europe/Athens
BEGIN:DAYLIGHT
TZOFFSETFROM:+0200
TZOFFSETTO:+0300
TZNAME:EEST
DTSTART:19700329T030000
RRULE:FREQ=YEARLY;BYMONTH=3;BYDAY=-1SU
END:DAYLIGHT
BEGIN:STANDARD
TZOFFSETFROM:+0300
TZOFFSETTO:+0200
TZNAME:EET
DTSTART:19701025T040000
RRULE:FREQ=YEARLY;BYMONTH=10;BYDAY=-1SU
END:STANDARD
END:VTIMEZONE
BEGIN:VEVENT
UID:1982923:Event:119204
DTSTAMP:20260424T123615Z
SUMMARY:Blues Wire & Los Dos O Mas @ Αίγιο
DESCRIPTION:Οι Blues Wire ξεκίνησαν την πορεία τ
 υς το 1985. Καταξιώθηκαν ως η καλλίτερη 
 αι πιο δημοφιλής blues μπάντα της Ευρώπη
 ς. Πέρα από την προσωπική τους δουλειά 
 έχουν συνεργαστεί με κορυφαία ονόματα
  της παγκόσμιας σκηνής των μπλουζ, γεγ
 νός που φανερώνει την ποιότητα της δο
 λειάς και το κύρος της μπάντας. Σήμερα
  οι Blues Wire συνεχίζουν με τους ανθρώπους
  που είναι υπεύθυνοι για τη δημιουργί
  τους, με αποτέλεσμα ένα γκρουπ με πίσ
 η, ωριμότητα και ήθος, που κοσμεί την ε
 λληνική μουσική σκηνή.\n\n\nFor more information vi
 sit https://blues.gr/events/blues-wire-los-dos-o-mas
DTSTART;TZID=Europe/Athens:20111104T000000
DTEND;TZID=Europe/Athens:20111104T235900
CATEGORIES:live, blues
LOCATION:Piccadilly Bar
WEBSITE:http://www.blueswire.gr/
URL:http://www.blueswire.gr/
CONTACT:
ORGANIZER:Π.Α.ΛΕ.ΜΟΤ Αιγίου
ATTACH;FMTTYPE="image/jpeg":http://storage.ning.com/topology/rest/1.0/
 file/get/2252960956?profile=original
ATTENDEE;ROLE=REQ-PARTICIPANT;PARTSTAT=ACCEPTED;RSVP=TRUE;CN="Music Ne
 twork by Michael Limnios":https://blues.gr/profile/MichalisLimnios
END:VEVENT
END:VCALENDAR
