BEGIN:VCALENDAR
PRODID:NingEventWidget-v1
VERSION:2.0
METHOD:PUBLISH
BEGIN:VTIMEZONE
TZID:Europe/Athens
X-LIC-LOCATION:Europe/Athens
BEGIN:DAYLIGHT
TZOFFSETFROM:+0200
TZOFFSETTO:+0300
TZNAME:EEST
DTSTART:19700329T030000
RRULE:FREQ=YEARLY;BYMONTH=3;BYDAY=-1SU
END:DAYLIGHT
BEGIN:STANDARD
TZOFFSETFROM:+0300
TZOFFSETTO:+0200
TZNAME:EET
DTSTART:19701025T040000
RRULE:FREQ=YEARLY;BYMONTH=10;BYDAY=-1SU
END:STANDARD
END:VTIMEZONE
BEGIN:VEVENT
UID:1982923:Event:82310
DTSTAMP:20260421T183508Z
SUMMARY:BLUES WIRE - SMALL BLUES TRAP ... Live at VINILION
DESCRIPTION:\n\nΣτις 17 του Δεκέμβρη,\nμαζί με τ
 ους Blues Wire , οι Small Blues Trap που θα παίξουν 
 α γνωστά αλλά μοναδικά και γεμάτα λυρ
 σμό Dark Blues τους.\nΟ Παύλος Καραπιπέρης 
 αζί με το Δημήτρη Επικούρη θα χαρίσου
  το δικό τους πόνημα «15 Σταγόνες Βροχή
 ς σε έναν Ωκεανό από Μπλούζ Ιστορίες» (
 CD και βιβλίο μαζί) σε 15 τυχερούς φίλους
  της κλήρωσης που θα διοργανώσει το Vinil
 ion κατά τη διάρκεια της βραδιάς.\nΠoλλοί
  καλεσμένοι και Open Jam στο τελευταίο set…
 \n\nFor more information visit https://blues.gr/events/blues-wire-smal
 l-blues-trap
DTSTART;TZID=Europe/Athens:20101217T000000
DTEND;TZID=Europe/Athens:20101217T235900
CATEGORIES:blues, "that's", all
LOCATION:VINILION
WEBSITE:
URL:
CONTACT:210-2692640
ORGANIZER:VINILION CLUB
ATTACH;FMTTYPE="image/jpeg":http://storage.ning.com/topology/rest/1.0/
 file/get/2252945406?profile=original
ATTENDEE;ROLE=REQ-PARTICIPANT;PARTSTAT=ACCEPTED;RSVP=TRUE;CN="Tsiamtsi
 kas Nikolaos":https://blues.gr/profile/TsiamtsikasNikolaos
ATTENDEE;ROLE=REQ-PARTICIPANT;PARTSTAT=ACCEPTED;RSVP=TRUE;CN="Small Bl
 ues Trap":https://blues.gr/profile/SmallBluesTrap
ATTENDEE;ROLE=REQ-PARTICIPANT;PARTSTAT=TENTATIVE;RSVP=TRUE;CN="George 
 \"Whiskey\" Stefanakis":https://blues.gr/profile/GeorgeStefanakis
END:VEVENT
END:VCALENDAR
