BEGIN:VCALENDAR
PRODID:NingEventWidget-v1
VERSION:2.0
METHOD:PUBLISH
BEGIN:VTIMEZONE
TZID:Europe/Athens
X-LIC-LOCATION:Europe/Athens
BEGIN:DAYLIGHT
TZOFFSETFROM:+0200
TZOFFSETTO:+0300
TZNAME:EEST
DTSTART:19700329T030000
RRULE:FREQ=YEARLY;BYMONTH=3;BYDAY=-1SU
END:DAYLIGHT
BEGIN:STANDARD
TZOFFSETFROM:+0300
TZOFFSETTO:+0200
TZNAME:EET
DTSTART:19701025T040000
RRULE:FREQ=YEARLY;BYMONTH=10;BYDAY=-1SU
END:STANDARD
END:VTIMEZONE
BEGIN:VEVENT
UID:1982923:Event:19201
DTSTAMP:20260423T091257Z
SUMMARY:BluesWire live
DESCRIPTION:Coming back for two hot electric blues nights at one of th
 e most welcoming joints in Athens.\n\nFor more information visit https
 ://blues.gr/events/blueswire-live
DTSTART;TZID=Europe/Athens:20090306T220000
DTEND;TZID=Europe/Athens:20090308T020000
CATEGORIES:gig
LOCATION:Rodeo club
WEBSITE:http://www.rodeoclub.gr
URL:http://www.rodeoclub.gr
CONTACT:210-8814702
ORGANIZER;CN="Big Mo":https://blues.gr/profile/BigMo
ATTACH;FMTTYPE="image/jpeg":http://storage.ning.com/topology/rest/1.0/
 file/get/2166127456?profile=original
ATTENDEE;ROLE=REQ-PARTICIPANT;PARTSTAT=ACCEPTED;RSVP=TRUE;CN=Μαρί
 :https://blues.gr/profile/Marhia
ATTENDEE;ROLE=REQ-PARTICIPANT;PARTSTAT=ACCEPTED;RSVP=TRUE;CN="Big Mo":
 https://blues.gr/profile/BigMo
ATTENDEE;ROLE=REQ-PARTICIPANT;PARTSTAT=TENTATIVE;RSVP=TRUE;CN="BB Chri
 s":https://blues.gr/profile/Chris91
END:VEVENT
END:VCALENDAR
