BEGIN:VCALENDAR
PRODID:NingEventWidget-v1
VERSION:2.0
METHOD:PUBLISH
BEGIN:VTIMEZONE
TZID:Europe/Athens
X-LIC-LOCATION:Europe/Athens
BEGIN:DAYLIGHT
TZOFFSETFROM:+0200
TZOFFSETTO:+0300
TZNAME:EEST
DTSTART:19700329T030000
RRULE:FREQ=YEARLY;BYMONTH=3;BYDAY=-1SU
END:DAYLIGHT
BEGIN:STANDARD
TZOFFSETFROM:+0300
TZOFFSETTO:+0200
TZNAME:EET
DTSTART:19701025T040000
RRULE:FREQ=YEARLY;BYMONTH=10;BYDAY=-1SU
END:STANDARD
END:VTIMEZONE
BEGIN:VEVENT
UID:1982923:Event:257503
DTSTAMP:20260424T024449Z
SUMMARY:bluez box live at methodia
DESCRIPTION:Στις 23 Ιούνη και ώρα 21:00 σας περι
 μένουμε στο Methodia Live Stage, για να γουστάρ
 υμε, να ροκάρουμε, να φωνάξετε μαζί μα
  τους στίχους μέχρι να μη σας μείνει ί
 νος αέρα στα πνευμόνια σας, αλλά κυρίω
 ς, για να μαθαίνουν οι νέοι και να θυμη
 ούν οι παλιοί.Σε αυτό το ταξίδι, θα σας
  βοηθήσουν κατ' αλφαβητική σειρά οι:Bluez
  Box:Δημήτρης Πεντεδέκας - ΚιθάραΖαννής 
 Καλαμπούκης - ΜπάσοΆγγελος Παπαλάμπρο
 υ - DrumsΓιάννης Παπαμιχαλόπουλος - Κιθάρ
 α, φωνήΥπάρχουν ως σχημα περίπου δύο χ
 όνια. Παίζουν κυρίως rock & blues διασκευές
  (χωρίς να αποκλείουν την πιθανότητα γ
 α δικό τους υλικό από Σεπτέμβρη). Στόχ
 ς τους είναι τα lives σε μουσικές σκηνές 
 και να πλαισιώσουν κάποια καλά ονόματ
  της blues σκηνής.90LivesMr. Rose - Vocals,GuitarDimitris St
 amp - Guitar, Backing VocalsPeter Jonathan Parker - Bass, Backing Voca
 lsThanos - DrumsMία μπάντα διασκευών σε ύφος al
 ternative/grunge/punk rock επιχειρώντας ένα ταξίδ
  πίσω στα 90’s.Συγκροτήματα τα οποία ση
 μάδεψαν την εφηβεία των μελών της μπάν
 τας, ξαναζωντάνεψαν το χθες, φέρνοντάς
  το στο σήμερα, με μια χρονομηχανή , η ο
 οία από τη στιγμή που ξεκίνησε, δεν στ
 ματάει…Αυτή την περίοδο οι 90Lives δουλε
 ύουν πάνω σε παλιό και καινούριο υλικό
  με το νέο drummer και προετοιμάζονται για
  live εμφανίσεις.Long-Time DistanceΠάνος Μπουλμέ
 της: Main VocalsΔημήτρης Γιαβής: Lead Guitar - Backin
 g VocalsΜάριος Μπουνίκας: Rhythm Guitar - Backing Vocal
 sΝηρέας Γινελής: Bass Σωκράτης Σεϊρλής: K
 eyboardΠάνος Σκριμιζέας: DrumsΈνα σχήμα απο
 ελούμενο από νέα παιδιά με αγάπη για τ
 ην παλιά καλή μουσική σκηνή της δεκαετ
 ίας του '70 κυρίως. Αυτή στην οποία εμπν
 ύστηκαν ακόμα και πολλές από τις σημε
 ινές κορυφαίες μπάντες. \n\nFor more information
  visit https://blues.gr/events/bluez-box-live-at-methodia
DTSTART;TZID=Europe/Athens:20170623T210000
DTEND;TZID=Europe/Athens:20170624T020000
CATEGORIES:blues-classic, rok, live
LOCATION:Methodia Art MultiSpace
WEBSITE:
URL:
CONTACT:
ORGANIZER:methodia live stage
ATTACH;FMTTYPE="image/jpeg":http://storage.ning.com/topology/rest/1.0/
 file/get/2253055253?profile=original
ATTENDEE;ROLE=REQ-PARTICIPANT;PARTSTAT=ACCEPTED;RSVP=TRUE;CN="Papamich
 alopoulos Yannis":https://blues.gr/profile/PapamichalopoulosYannis
END:VEVENT
END:VCALENDAR
