BEGIN:VCALENDAR
PRODID:NingEventWidget-v1
VERSION:2.0
METHOD:PUBLISH
BEGIN:VTIMEZONE
TZID:Europe/Athens
X-LIC-LOCATION:Europe/Athens
BEGIN:DAYLIGHT
TZOFFSETFROM:+0200
TZOFFSETTO:+0300
TZNAME:EEST
DTSTART:19700329T030000
RRULE:FREQ=YEARLY;BYMONTH=3;BYDAY=-1SU
END:DAYLIGHT
BEGIN:STANDARD
TZOFFSETFROM:+0300
TZOFFSETTO:+0200
TZNAME:EET
DTSTART:19701025T040000
RRULE:FREQ=YEARLY;BYMONTH=10;BYDAY=-1SU
END:STANDARD
END:VTIMEZONE
BEGIN:VEVENT
UID:1982923:Event:270541
DTSTAMP:20260423T164104Z
SUMMARY:Bluez Box Live Στο Zitto
DESCRIPTION:οι bluez box ζωντανα στο zitto στην καρ
 δια της αθηνας. οι bluez box ειναι μια blues μ
 αντα που ασχολειται με διασκευες σε γ
 ωστα και λιγοτερο γνωστα blues τραγουδι
 ,αλλα και με δικες τους συνθεσεις που 
 υντομα θα παρουσιαστουν.τα ακουσματα 
 ξεκινανε απο τα delta blues(howlin wolf,robert johnson) 
 ερνανε απο το ηλεκτρικο blues(muddy waters,bb kin
 g,albert king,etc)στο blues-rock των 70s(clapton,gallagher) κα
 ι φτανουν στις μερες μας(gary clark,etc)με εν
  και μοναδικο σκοπο...keep the blues alive!!ωρα ε
 ναρξης:22.00\n\nFor more information visit https://blues.gr/even
 ts/bluez-box-live-zitto
DTSTART;TZID=Europe/Athens:20181110T220000
DTEND;TZID=Europe/Athens:20181111T010000
CATEGORIES:live, event
LOCATION:zitto jazz bar-bistrot
WEBSITE:https://www.facebook.com/ZittO-1747760432169440/
URL:https://www.facebook.com/ZittO-1747760432169440/
CONTACT:693 467 6162
ORGANIZER;CN="Papamichalopoulos Yannis":https://blues.gr/profile/Papam
 ichalopoulosYannis
ATTACH;FMTTYPE="image/jpeg":http://storage.ning.com/topology/rest/1.0/
 file/get/2253061126?profile=original
ATTENDEE;ROLE=REQ-PARTICIPANT;PARTSTAT=ACCEPTED;RSVP=TRUE;CN="Papamich
 alopoulos Yannis":https://blues.gr/profile/PapamichalopoulosYannis
END:VEVENT
END:VCALENDAR
