BEGIN:VCALENDAR
PRODID:NingEventWidget-v1
VERSION:2.0
METHOD:PUBLISH
BEGIN:VTIMEZONE
TZID:Europe/Athens
X-LIC-LOCATION:Europe/Athens
BEGIN:DAYLIGHT
TZOFFSETFROM:+0200
TZOFFSETTO:+0300
TZNAME:EEST
DTSTART:19700329T030000
RRULE:FREQ=YEARLY;BYMONTH=3;BYDAY=-1SU
END:DAYLIGHT
BEGIN:STANDARD
TZOFFSETFROM:+0300
TZOFFSETTO:+0200
TZNAME:EET
DTSTART:19701025T040000
RRULE:FREQ=YEARLY;BYMONTH=10;BYDAY=-1SU
END:STANDARD
END:VTIMEZONE
BEGIN:VEVENT
UID:1982923:Event:488437
DTSTAMP:20260419T225443Z
SUMMARY:BONEY FIELDS & THE BFB
DESCRIPTION:“Real music by real musicians” as Prince used to say
 . Just like Prince, the trumpet player Boney Fields is part of this
  generation of African-American musicians born to tame the stage.\r\
 nSo it is no coincidence that his playing partners are named Lucky Pe
 terson, Luther Allison, James Cotton, Buddy Guy, Liz Mc Comb, as wel
 l as George Clinton, Maceo Parker, Fred Wesley or Bootsy Collins.\r\n
 Boney Fields faithfully merges Funk and Blues, the two sides of t
 he same Great Black Music, and he does so with the skills acquired dur
 ing a career spent playing on stages all over the world.\r\n\r\n\n\nFo
 r more information visit https://blues.gr/events/boney-fields-the-bfb
DTSTART;TZID=Europe/Athens:20230217T000000
DTEND;TZID=Europe/Athens:20230220T235900
CATEGORIES:jazz, blues
LOCATION:HALF NOTE JAZZ CLUB
WEBSITE:https://www.halfnote.gr/
URL:https://www.halfnote.gr/
CONTACT:21 0921 3310
ORGANIZER:HALF NOTE JAZZ CLUB
ATTACH;FMTTYPE="image/jpeg":https://storage.ning.com/topology/rest/1.0
 /file/get/10944909663?profile=original
ATTENDEE;ROLE=REQ-PARTICIPANT;PARTSTAT=ACCEPTED;RSVP=TRUE;CN="Music Ne
 twork by Michael Limnios":https://blues.gr/profile/MichalisLimnios
END:VEVENT
END:VCALENDAR
