BEGIN:VCALENDAR
PRODID:NingEventWidget-v1
VERSION:2.0
METHOD:PUBLISH
BEGIN:VTIMEZONE
TZID:Europe/Athens
X-LIC-LOCATION:Europe/Athens
BEGIN:DAYLIGHT
TZOFFSETFROM:+0200
TZOFFSETTO:+0300
TZNAME:EEST
DTSTART:19700329T030000
RRULE:FREQ=YEARLY;BYMONTH=3;BYDAY=-1SU
END:DAYLIGHT
BEGIN:STANDARD
TZOFFSETFROM:+0300
TZOFFSETTO:+0200
TZNAME:EET
DTSTART:19701025T040000
RRULE:FREQ=YEARLY;BYMONTH=10;BYDAY=-1SU
END:STANDARD
END:VTIMEZONE
BEGIN:VEVENT
UID:1982923:Event:223734
DTSTAMP:20260421T132611Z
SUMMARY:BOOGIE SINNERS / CRIPPLED MOJO....rhythm & blues
DESCRIPTION:\nΚυριακή 24/5\nBOOGIE SINNERS / CRIPPLED MOJO\nΚ
 θάρα/Φωνή: Θοδωρής Αλεξίου: κιθάρα-φων
 ή, Κώστας Τενέζος: φυσαρμόνικα, Δημήτρ
 ς Γεωργόπουλος: μπάσο, Γιάννης Δημουλ
 ς: ντραμς.\n Για 1η φορά στο Lazy, oi Boogie Sinne
 rs, το ''νέο αίμα'' της rhythm & blues στην Ελλάδ
 α, θα μας απογειώσουν με ρυθμούς και τρ
 αγούδια από το 1ο τους δίσκο, Time To Roll, αλ
 λα και με ''αθάνατες'' διασκευές της Rhythm
  & Blues μουσικής!!Το Lazy, ΄΄γκρουβάρει'' σε 
 ρυθμούς funk, rock & roll, surf, blues!\nΠροετοιμαστ
 είτε!!! Τη βραδιά ανοίγουν οι CRIPPLED MOJO.\nΕ
 ίσοδος 7 ευρώ με μπύρα ή κρασί..\n\nFor more in
 formation visit https://blues.gr/events/boogie-sinners-crippled-mojo-r
 hythm-blues
DTSTART;TZID=Europe/Athens:20150524T223000
DTEND;TZID=Europe/Athens:20150525T020000
CATEGORIES:sunday, rhythm, "&", blues, "night."
LOCATION:LAZY CLUB
WEBSITE:
URL:
CONTACT:210 6895535
ORGANIZER;CN="Spiros Dramitinos":https://blues.gr/profile/SpirosDramit
 inos
ATTACH;FMTTYPE="image/jpeg":http://storage.ning.com/topology/rest/1.0/
 file/get/2253037815?profile=original
ATTENDEE;ROLE=REQ-PARTICIPANT;PARTSTAT=ACCEPTED;RSVP=TRUE;CN="Spiros D
 ramitinos":https://blues.gr/profile/SpirosDramitinos
END:VEVENT
END:VCALENDAR
