BEGIN:VCALENDAR
PRODID:NingEventWidget-v1
VERSION:2.0
METHOD:PUBLISH
BEGIN:VTIMEZONE
TZID:Europe/Athens
X-LIC-LOCATION:Europe/Athens
BEGIN:DAYLIGHT
TZOFFSETFROM:+0200
TZOFFSETTO:+0300
TZNAME:EEST
DTSTART:19700329T030000
RRULE:FREQ=YEARLY;BYMONTH=3;BYDAY=-1SU
END:DAYLIGHT
BEGIN:STANDARD
TZOFFSETFROM:+0300
TZOFFSETTO:+0200
TZNAME:EET
DTSTART:19701025T040000
RRULE:FREQ=YEARLY;BYMONTH=10;BYDAY=-1SU
END:STANDARD
END:VTIMEZONE
BEGIN:VEVENT
UID:1982923:Event:490577
DTSTAMP:20260419T195053Z
SUMMARY:Brian Downey's Alive And Dangerous
DESCRIPTION:Brian Downey's Alive And Dangerous\r\nThe line-up features
  Brian Downey on Drums, Matt Wilson on bass and Lead Vocals and introd
 ucing Michal Kulbaka on lead guitar and Joe Merriman also on lead guit
 ar.\r\nMichal Kulbaka’s interview @ blues.gr\r\n \n\nFor more inform
 ation visit https://blues.gr/events/briandowneysaliveanddangerous
DTSTART;TZID=Europe/Athens:20231022T000000
DTEND;TZID=Europe/Athens:20231022T235900
CATEGORIES:rock
LOCATION:Kyttaro Live Club
WEBSITE:https://www.briandowneysaliveanddangerous.com/
URL:https://www.briandowneysaliveanddangerous.com/
CONTACT:+30 210.8224134
ORGANIZER:Up The Hammers Festival
ATTACH;FMTTYPE="image/jpeg":https://storage.ning.com/topology/rest/1.0
 /file/get/12238526057?profile=original
ATTENDEE;ROLE=REQ-PARTICIPANT;PARTSTAT=ACCEPTED;RSVP=TRUE;CN="Music Ne
 twork by Michael Limnios":https://blues.gr/profile/MichalisLimnios
END:VEVENT
END:VCALENDAR
