BEGIN:VCALENDAR
PRODID:NingEventWidget-v1
VERSION:2.0
METHOD:PUBLISH
BEGIN:VTIMEZONE
TZID:Europe/Athens
X-LIC-LOCATION:Europe/Athens
BEGIN:DAYLIGHT
TZOFFSETFROM:+0200
TZOFFSETTO:+0300
TZNAME:EEST
DTSTART:19700329T030000
RRULE:FREQ=YEARLY;BYMONTH=3;BYDAY=-1SU
END:DAYLIGHT
BEGIN:STANDARD
TZOFFSETFROM:+0300
TZOFFSETTO:+0200
TZNAME:EET
DTSTART:19701025T040000
RRULE:FREQ=YEARLY;BYMONTH=10;BYDAY=-1SU
END:STANDARD
END:VTIMEZONE
BEGIN:VEVENT
UID:1982923:Event:163414
DTSTAMP:20260419T162853Z
SUMMARY:Burlesque cafe bar - X-mas με Burlesque διάθεση!
DESCRIPTION:24 και 25 Δεκεμβρίου \nPETER SALCHEV φων
  ΚΩΣΤΑΣ ΜΑΓΓΙΝΑΣ  κιθάρα ΑΓΑΜΕΝΩΝ ΜΑΡ
 ΔΑΣ  ακουστικό μπάσο\n\nΤα Χριστούγενν
  πλησιάζουν και το Burlesque café bar stage φορά
 ι τα καλά του και σας υποδέχεται στον 
 ιλόξενο χώρο του για ένα αξέχαστο 2ήμε
 ρο με Χριστουγεννιάτικη ατμόσφαιρα. Τ
 ν παραμονή των Χριστουγέννων και ανήμ
 ερα 24/25 Δεκεμβρίου, ο μοναδικός PETER SALCHEV
  με την ζεστή μελωδική φωνή και την υπέ
 ροχη εκφραστική τους παρουσία με την σ
 υνοδεία του Κώστα Μαγγίνα και του Αγα
 έμνων Μάρδα σε συνδυασμό με το καλλιτ
 χνικό δυναμικό του Burlesque έρχονται να σ
 ας διασκεδάσουν με Χριστουγεννιάτικα 
 τραγούδια και πολλές εκπλήξεις που σα
  περιμένουν να τις ανακαλύψετε!\n\n\n\n\n\n
 \n\n\n\n\n\n\nΗ γνωριμία σας με το Burlesque σίγο
 ρα θα είναι για σας μια εμπειρία και η 
 γνωριμία μας με εσάς τιμή.\nΜην το χάσε
  κανείς!!!\nΑπεριόριστη κατανάλωση βαρ
 λίσιας ξανθιάς μπύρας FIX μόνο με 5 ευρώ
  για τις ώρες 09:00 το πρωί έως 22:00 το βράδ
 υ.\n\nΣας περιμένουμε με Burlesque διάθεση… 
 Καλές γιορτές και χρόνια σας πολλά!\n\nΕ
 ναλλακτικοί τρόποι επικοινωνίας:\n Διε
 ύθυνση:\nΣκρα 10, Θεσσαλονίκη, 54622 (στενό 
 πίσω από την εκκλησία Αγ.Σοφία κάθετο 
 τη Αλ.Σβώλου) Τηλ. 2310 288 153 E-mail: info@burlesque.g
 r FACEBOOK: https://www.facebook.com/Burlesque.cafe.bar TWEETER: https
 ://twitter.com/Burlesquegr www.burlesque.gr\n\nFor more information vi
 sit https://blues.gr/events/burlesque-cafe-bar-x-mas-burlesque
DTSTART;TZID=Europe/Athens:20121224T220000
DTEND;TZID=Europe/Athens:20121226T050000
CATEGORIES:x-mas, party, -, live, songs
LOCATION:Burlesque cafe bar
WEBSITE:http://www.burlesque.gr
URL:http://www.burlesque.gr
CONTACT:2310 288 153
ORGANIZER;CN="Burlesque cafe bar-stage":https://blues.gr/profile/Burle
 squecafebarstage
ATTACH;FMTTYPE="image/jpeg":http://storage.ning.com/topology/rest/1.0/
 file/get/2253003034?profile=original
ATTENDEE;ROLE=REQ-PARTICIPANT;PARTSTAT=ACCEPTED;RSVP=TRUE;CN="Burlesqu
 e cafe bar-stage":https://blues.gr/profile/Burlesquecafebarstage
END:VEVENT
END:VCALENDAR
