BEGIN:VCALENDAR
PRODID:NingEventWidget-v1
VERSION:2.0
METHOD:PUBLISH
BEGIN:VTIMEZONE
TZID:Europe/Athens
X-LIC-LOCATION:Europe/Athens
BEGIN:DAYLIGHT
TZOFFSETFROM:+0200
TZOFFSETTO:+0300
TZNAME:EEST
DTSTART:19700329T030000
RRULE:FREQ=YEARLY;BYMONTH=3;BYDAY=-1SU
END:DAYLIGHT
BEGIN:STANDARD
TZOFFSETFROM:+0300
TZOFFSETTO:+0200
TZNAME:EET
DTSTART:19701025T040000
RRULE:FREQ=YEARLY;BYMONTH=10;BYDAY=-1SU
END:STANDARD
END:VTIMEZONE
BEGIN:VEVENT
UID:1982923:Event:351888
DTSTAMP:20260422T113027Z
SUMMARY:C.W. Stoneking
DESCRIPTION:\r\nC.W. Stoneking is an artist for whom ‘unexpected’ 
 is probably the default setting. How else to describe such a fine purv
 eyor of American roots music who also happens to be a towering, youthf
 ul-faced white Australian man? He surprises first-time listeners, thro
 ws curveballs at long-time fans, and everything he does contains at le
 ast some background level of bafflement for all involved.\r\nThere are
  multitudes in Stoneking’s music. It’s probably easiest to describ
 e him as a ‘blues artist,’ but the term disguises what makes his m
 usic special. There’s so much in there. A 1920s pre-war blues sound 
 is key, but there’s almost equal helpings of New Orleans jazz, jug b
 and music, hokum, country and calypso, and he’s lately brought in el
 ements of jump jive, early rock’n’roll and gospel. His gift is tha
 t he brings them all together without anything sounding out of place. 
 He finds the strands that connect all of these different styles and ge
 ntly braids them together. It’s what he values more than anything: 
 It’s getting everything to unify really. The music, the flow of it
 , keeping it moving, with no dead spots. Then I guess having the lyric
 s and the meaning that flows in that too, you know? Getting it all to 
 knit together in a way that, if you didn’t speak English maybe, you
 d still be able to feel the melody, or the sounds of the words. If y
 ou did, then the meaning would also flow. That’s sort of what I’m 
 trying to do, I guess.” When so many on the blues scene are trying t
 o sound ‘authentic’ – whatever that is – it’s that unity of 
 sound that allows Stoneking to actually achieve it, and with apparent 
 ease, too. Back in the day, no-one was ‘just’ a blues musician, or
  a jazz or country musician, and so neither is he.\r\n\n\nFor more inf
 ormation visit https://blues.gr/events/c-w-stoneking-1
DTSTART;TZID=Europe/Athens:20191105T000000
DTEND;TZID=Europe/Athens:20191106T235900
CATEGORIES:blues, folk, roots
LOCATION:Tiki Bar Athens
WEBSITE:http://www.cwstoneking.com
URL:http://www.cwstoneking.com
CONTACT:21 0923 6908
ORGANIZER:Tiki Bar Athens
ATTACH;FMTTYPE="image/jpeg":https://storage.ning.com/topology/rest/1.0
 /file/get/3696785617?profile=original
ATTENDEE;ROLE=REQ-PARTICIPANT;PARTSTAT=ACCEPTED;RSVP=TRUE;CN="Music Ne
 twork by Michael Limnios":https://blues.gr/profile/MichalisLimnios
END:VEVENT
END:VCALENDAR
