BEGIN:VCALENDAR
PRODID:NingEventWidget-v1
VERSION:2.0
METHOD:PUBLISH
BEGIN:VTIMEZONE
TZID:Europe/Athens
X-LIC-LOCATION:Europe/Athens
BEGIN:DAYLIGHT
TZOFFSETFROM:+0200
TZOFFSETTO:+0300
TZNAME:EEST
DTSTART:19700329T030000
RRULE:FREQ=YEARLY;BYMONTH=3;BYDAY=-1SU
END:DAYLIGHT
BEGIN:STANDARD
TZOFFSETFROM:+0300
TZOFFSETTO:+0200
TZNAME:EET
DTSTART:19701025T040000
RRULE:FREQ=YEARLY;BYMONTH=10;BYDAY=-1SU
END:STANDARD
END:VTIMEZONE
BEGIN:VEVENT
UID:1982923:Event:315158
DTSTAMP:20260422T130014Z
SUMMARY:CHARLES McPHERSON QUARTET
DESCRIPTION:Ο Charles McPherson είναι ένας από τους 
 αλύτερους alto σαξοφωνίστες της jazz ιστο
 ρίας κι ένας ζωντανός θρύλος. Αφοσιωμέ
 νος μαθητής του Charlie Parker και επί 12 χρόν
 α στενός συνεργάτης του Charles Mingus αλλά 
 αι πολλών άλλων, ο McPherson προσέδωσε στο 
 Bepop μια εντελώς προσωπική χροιά. Γι’ α
 τό ακριβώς τον λόγο όταν ο τελειομανή
  Clint Eastwood αναζητούσε ένα alto σαξόφωνο α
 τάξιο του μεγάλου “Bird”, ώστε να «ντύσ
 ει» μουσικά την ομώνυμη βιογραφική τα
 νία του για τον Charlie Parker, επέλεξε χωρίς
  δεύτερη σκέψη τον Charles Mc Pherson.Στην περι
 οδεία αυτή γιορτάζει τα 80 του χρόνια κ
  αποδεικνύει ότι η μουσική τον κρατά π
 ιο νέο και δραστήριο παρά ποτέ. Το σαξό
 φωνο του McPherson και οι εξαιρετικοί μουσ
 κοί του, μας ξαναφέρνουν μετά από μία 
 εκαετία, το πάθος, την πολυπλοκότητα α
 λλά και τρυφερότητα μιας Bebop που σουϊν
 κάρει και μένει στις καρδιές. Ανυπομο
 ούμε…!\r\n\r\nCharles McPherson – alto saxophone\r\nAlbert Pa
 lau – piano\r\nMark Hodgson – contrabass\r\nStephen Keogh – drum
 s\r\n\n\nFor more information visit https://blues.gr/events/charles-mc
 pherson-quartet
DTSTART;TZID=Europe/Athens:20191101T000000
DTEND;TZID=Europe/Athens:20191104T235900
CATEGORIES:jazz
LOCATION:Half Note Jazz Club
WEBSITE:
URL:
CONTACT:210 9213310
ORGANIZER:Half Note Jazz Club
ATTACH;FMTTYPE="image/jpeg":https://storage.ning.com/topology/rest/1.0
 /file/get/3322268901?profile=original
ATTENDEE;ROLE=REQ-PARTICIPANT;PARTSTAT=ACCEPTED;RSVP=TRUE;CN="Music Ne
 twork by Michael Limnios":https://blues.gr/profile/MichalisLimnios
END:VEVENT
END:VCALENDAR
