BEGIN:VCALENDAR
PRODID:NingEventWidget-v1
VERSION:2.0
METHOD:PUBLISH
BEGIN:VTIMEZONE
TZID:Europe/Athens
X-LIC-LOCATION:Europe/Athens
BEGIN:DAYLIGHT
TZOFFSETFROM:+0200
TZOFFSETTO:+0300
TZNAME:EEST
DTSTART:19700329T030000
RRULE:FREQ=YEARLY;BYMONTH=3;BYDAY=-1SU
END:DAYLIGHT
BEGIN:STANDARD
TZOFFSETFROM:+0300
TZOFFSETTO:+0200
TZNAME:EET
DTSTART:19701025T040000
RRULE:FREQ=YEARLY;BYMONTH=10;BYDAY=-1SU
END:STANDARD
END:VTIMEZONE
BEGIN:VEVENT
UID:1982923:Event:220407
DTSTAMP:20260424T085445Z
SUMMARY:\"CHICAGO BLUES\" / MICHAEL DOTSON meets BLUES CARGO
DESCRIPTION:\"CHICAGO BLUES\" / MICHAEL DOTSON meets BLUES CARGOO Μic
 hael Dotson είναι ένας παγκοσμίου φήμης bluesm
 an από το Σικάγο,κιθαρίστας,συνθέτης κ
 ι τραγουδιστής και έχει συνεργαστεί μ
 ε τούς μεγαλύτερους καλλιτέχνες του ε
 δους.Γιά έξι χρόνια έπαιζε με τον Magic Sl
 im και μαζί με τα άλλα δύο μέλη της…O Micha
 el Dotson παίζει “high energy Chicago style house rockin’mus
 ic,ένα ωμό μίγμα από shuffles και boogies με γερ
 ές ρίζες στην παράδοση και γεμάτο καυτ
 ή κιθάρα.Δουλεύει σόλο πάνω από δέκα χ
 όνιαΜια μπάντα με 28 χρόνια ζωής,οι BLUES 
 CARGO βρίσκονται σήμερα πιο κοντά στον α
 θεντικό ήχο του Σικάγο από αρκετές μπ
 ντες που δραστηριοποιούνται στο ίδιο 
 το Σικάγο,στην μακρόχρονη πορεία της έ
 χει συνοδεύσει μουσικούς σαν τον Guitar Sh
 orty, U.P Wilson, Louisiana Red,Lurrie Bell, Big Time Sarah, Eddie C. 
 Campbell, Lefty Dizz, Angela Brown, Lovie Lee, Byther Smith, Jean Car
 oll, Maxine Howard, Blind Mississippi Morris, Sweet Betty, Jimmy Morel
 lo , Nellie Travis , Jolly Jumper and Big Moe , Michael Dotson, Ja
 nice Harrington\n\nFor more information visit https://blues.gr/events/
 chicago-blues-michael-dotson-meets-blues-cargo-1
DTSTART;TZID=Europe/Athens:20150220T223000
DTEND;TZID=Europe/Athens:20150221T013000
CATEGORIES:chicago, funky, grooving, blues
LOCATION:Egalite Bar & Darts Club
WEBSITE:https://www.facebook.com/pages/Egalite-Bar-Darts-Club/17658535
 2367050?sk=info&tab=overview
URL:https://www.facebook.com/pages/Egalite-Bar-Darts-Club/176585352367
 050?sk=info&tab=overview
CONTACT:21 0271 6461
ORGANIZER;CN="Dimitris Ioannou":https://blues.gr/profile/DimitrisIoann
 ou
ATTACH;FMTTYPE="image/jpeg":http://storage.ning.com/topology/rest/1.0/
 file/get/2253035208?profile=original
ATTENDEE;ROLE=REQ-PARTICIPANT;PARTSTAT=ACCEPTED;RSVP=TRUE;CN="Dimitris
  Ioannou":https://blues.gr/profile/DimitrisIoannou
END:VEVENT
END:VCALENDAR
