BEGIN:VCALENDAR
PRODID:NingEventWidget-v1
VERSION:2.0
METHOD:PUBLISH
BEGIN:VTIMEZONE
TZID:Europe/Athens
X-LIC-LOCATION:Europe/Athens
BEGIN:DAYLIGHT
TZOFFSETFROM:+0200
TZOFFSETTO:+0300
TZNAME:EEST
DTSTART:19700329T030000
RRULE:FREQ=YEARLY;BYMONTH=3;BYDAY=-1SU
END:DAYLIGHT
BEGIN:STANDARD
TZOFFSETFROM:+0300
TZOFFSETTO:+0200
TZNAME:EET
DTSTART:19701025T040000
RRULE:FREQ=YEARLY;BYMONTH=10;BYDAY=-1SU
END:STANDARD
END:VTIMEZONE
BEGIN:VEVENT
UID:1982923:Event:219363
DTSTAMP:20260422T071042Z
SUMMARY:\"CHICAGO BLUES\" / MICHAEL DOTSON meets BLUES CARGO
DESCRIPTION:O Μichael Dotson είναι ένας παγκοσμίου
  φήμης bluesman από το Σικάγο,κιθαρίστας,σ
 νθέτης και τραγουδιστής και έχει συν
 ργαστεί με τούς μεγαλύτερους καλλιτέ
 νες του είδους.Γιά έξι χρόνια έπαιζε μ
 ε τον Magic Slim και μαζί με τα άλλα δύο μέλ
  της…O Michael Dotson παίζει “high energy Chicago style 
 house rockin’music,ένα ωμό μίγμα από shuffles και b
 oogies με γερές ρίζες στην παράδοση και γ
 μάτο καυτή κιθάρα.Δουλεύει σόλο πάνω 
 πό δέκα χρόνια Μια μπάντα με 28 χρόνια 
 ωής,οι BLUES CARGO βρίσκονται σήμερα πιο κο
 ντά στον αυθεντικό ήχο του Σικάγο από 
 ρκετές μπάντες που δραστηριοποιούντα
 ι στο ίδιο το Σικάγο,στην μακρόχρονη π
 ρεία της έχει συνοδεύσει μουσικούς σα
 ν τον Guitar Shorty, U.P Wilson, Louisiana Red, Lurrie Bell, Big T
 ime Sarah, Eddie C. Campbell, Lefty Dizz, Angela Brown, Lovie Lee, Byt
 her Smith, Jean Caroll, Maxine Howard, Blind Mississippi Morris, Sweet
  Betty, Jimmy Morello , Nellie Tiger Travis , Jolly Jumper and Big Moe
  , Michael Dotson,Janice Harrington, Matthew Skoller.\n\nFor more info
 rmation visit https://blues.gr/events/chicago-blues-michael-dotson-mee
 ts-blues-cargo
DTSTART;TZID=Europe/Athens:20150213T223000
DTEND;TZID=Europe/Athens:20150214T010000
CATEGORIES:chicago, house, "rockin'", blues
LOCATION:Cloud 9
WEBSITE:https://www.facebook.com/CloudNineClubAthens/info
URL:https://www.facebook.com/CloudNineClubAthens/info
CONTACT:21 5525 3366
ORGANIZER;CN="Dimitris Ioannou":https://blues.gr/profile/DimitrisIoann
 ou
ATTACH;FMTTYPE="image/jpeg":http://storage.ning.com/topology/rest/1.0/
 file/get/2166131313?profile=original
ATTENDEE;ROLE=REQ-PARTICIPANT;PARTSTAT=ACCEPTED;RSVP=TRUE;CN="Dimitris
  Ioannou":https://blues.gr/profile/DimitrisIoannou
END:VEVENT
END:VCALENDAR
