BEGIN:VCALENDAR
PRODID:NingEventWidget-v1
VERSION:2.0
METHOD:PUBLISH
BEGIN:VTIMEZONE
TZID:Europe/Athens
X-LIC-LOCATION:Europe/Athens
BEGIN:DAYLIGHT
TZOFFSETFROM:+0200
TZOFFSETTO:+0300
TZNAME:EEST
DTSTART:19700329T030000
RRULE:FREQ=YEARLY;BYMONTH=3;BYDAY=-1SU
END:DAYLIGHT
BEGIN:STANDARD
TZOFFSETFROM:+0300
TZOFFSETTO:+0200
TZNAME:EET
DTSTART:19701025T040000
RRULE:FREQ=YEARLY;BYMONTH=10;BYDAY=-1SU
END:STANDARD
END:VTIMEZONE
BEGIN:VEVENT
UID:1982923:Event:16368
DTSTAMP:20260423T103626Z
SUMMARY:CHICAGO BLUES NIGHT “O ΟΝΗΣΙΜΟS”
DESCRIPTION:BLUES NIGHT ΣΤΟ LAZY ΜΕ ΤΟΥΣ : BLUES THERAPY , BL
 UES CARGO,GEORGE AND THE DUKES\nGUEST : MICHAEL DOTSON\nΕΙΣΟΔΟΣ
  10 ΕΥΡΩ\n\nΤΑ ΕΣΟΔΑ ΘΑ ΔΙΑΤΕΘΟΥΝ ΓΙΑ ΤΟΝ 
 ΣΥΛΛΟΓΟ ΥΠΟΣΤΗΡΙΞΗΣ ΚΑΙ ΑΠΟΚΑΤΑΣΤΑΣΗ
 \n“O ONHCIMOC”\n\nFor more information visit https://blues.gr/eve
 nts/chicago-blues-night-o-onesimos
DTSTART;TZID=Europe/Athens:20090220T223000
DTEND;TZID=Europe/Athens:20090221T123000
CATEGORIES:gig
LOCATION:LAZY CLUB
WEBSITE:
URL:
CONTACT:210 6895535
ORGANIZER:TONY DOLLARO
ATTACH;FMTTYPE="image/jpeg":http://storage.ning.com/topology/rest/1.0/
 file/get/2252935782?profile=original
ATTENDEE;ROLE=REQ-PARTICIPANT;PARTSTAT=ACCEPTED;RSVP=TRUE;CN="Dimitris
  Ioannou":https://blues.gr/profile/DimitrisIoannou
ATTENDEE;ROLE=REQ-PARTICIPANT;PARTSTAT=ACCEPTED;RSVP=TRUE;CN="tony dol
 laro":https://blues.gr/profile/tonydollaro
ATTENDEE;ROLE=REQ-PARTICIPANT;PARTSTAT=ACCEPTED;RSVP=TRUE;CN="DOWN HOM
 E NONDAS":https://blues.gr/profile/NONDAS
ATTENDEE;ROLE=REQ-PARTICIPANT;PARTSTAT=TENTATIVE;RSVP=TRUE;CN="George 
 \"Whiskey\" Stefanakis":https://blues.gr/profile/GeorgeStefanakis
END:VEVENT
END:VCALENDAR
