BEGIN:VCALENDAR
PRODID:NingEventWidget-v1
VERSION:2.0
METHOD:PUBLISH
BEGIN:VTIMEZONE
TZID:Europe/Athens
X-LIC-LOCATION:Europe/Athens
BEGIN:DAYLIGHT
TZOFFSETFROM:+0200
TZOFFSETTO:+0300
TZNAME:EEST
DTSTART:19700329T030000
RRULE:FREQ=YEARLY;BYMONTH=3;BYDAY=-1SU
END:DAYLIGHT
BEGIN:STANDARD
TZOFFSETFROM:+0300
TZOFFSETTO:+0200
TZNAME:EET
DTSTART:19701025T040000
RRULE:FREQ=YEARLY;BYMONTH=10;BYDAY=-1SU
END:STANDARD
END:VTIMEZONE
BEGIN:VEVENT
UID:1982923:Event:37783
DTSTAMP:20260425T033033Z
SUMMARY:CHRISTMAS EVE με τους ALBERTIME LIVE!
DESCRIPTION:Το νέο Pop-Rock-Soul project σε Αγγλικό κα
 ι Ελληνικό στίχο, Jazz-Latin-Fusion από τα προη
 γούμενα cd`s του ALBERT (Παναγιωτόπουλος) κ
 ι επιλεγμένες διασκευές.\nΜια GLAM-BEAT perfo
 rmance!\n\nΦιόνα Λαμπρίδη: φωνή\nΘάνος Πλού
 πης: κιθάρα\nΣέργιος Παπαθανασίου: πλή
 κτρα\nΠαναγιώτης Καπετάνιος: μπάσο\nAlber
 t: τύμπανα, φωνή.\n\nΜετά την παράσταση τ
 ν \"Albertime\" θα ακολουθήσει DJ SET\n\nReservations: 
 210 722.22.32\n\nFor more information visit https://blues.gr/events/ch
 ristmas-eve-me-toys
DTSTART;TZID=Europe/Athens:20091224T231500
DTEND;TZID=Europe/Athens:20091225T040000
CATEGORIES:christmas, eve
LOCATION:PULITZER Restaurant-Bar
WEBSITE:
URL:
CONTACT:
ORGANIZER;CN=fiona:https://blues.gr/profile/fiona
ATTACH;FMTTYPE="image/jpeg":http://storage.ning.com/topology/rest/1.0/
 file/get/2252942071?profile=original
ATTENDEE;ROLE=REQ-PARTICIPANT;PARTSTAT=ACCEPTED;RSVP=TRUE;CN=fiona:htt
 ps://blues.gr/profile/fiona
END:VEVENT
END:VCALENDAR
