BEGIN:VCALENDAR
PRODID:NingEventWidget-v1
VERSION:2.0
METHOD:PUBLISH
BEGIN:VTIMEZONE
TZID:Europe/Athens
X-LIC-LOCATION:Europe/Athens
BEGIN:DAYLIGHT
TZOFFSETFROM:+0200
TZOFFSETTO:+0300
TZNAME:EEST
DTSTART:19700329T030000
RRULE:FREQ=YEARLY;BYMONTH=3;BYDAY=-1SU
END:DAYLIGHT
BEGIN:STANDARD
TZOFFSETFROM:+0300
TZOFFSETTO:+0200
TZNAME:EET
DTSTART:19701025T040000
RRULE:FREQ=YEARLY;BYMONTH=10;BYDAY=-1SU
END:STANDARD
END:VTIMEZONE
BEGIN:VEVENT
UID:1982923:Event:85854
DTSTAMP:20260421T211000Z
SUMMARY:Christmas Gig At Rockwood!
DESCRIPTION:Texas Brothers Live At Christmas Eve!\nRock 'n' Roll, Blue
 s, Rockabilly, Classic Rock, Southern Rock etc...\n\nFor more informat
 ion visit https://blues.gr/events/christmas-gig-at-rockwood
DTSTART;TZID=Europe/Athens:20101224T230000
DTEND;TZID=Europe/Athens:20101225T030000
CATEGORIES:live, convert
LOCATION:Museum
WEBSITE:
URL:
CONTACT:210-8230337
ORGANIZER;CN="Texas Brothers":https://blues.gr/profile/TexasBrothers
ATTACH;FMTTYPE="image/jpeg":http://storage.ning.com/topology/rest/1.0/
 file/get/2252947231?profile=original
ATTENDEE;ROLE=REQ-PARTICIPANT;PARTSTAT=ACCEPTED;RSVP=TRUE;CN="Giannis 
 Pachidis":https://blues.gr/profile/ioannis
ATTENDEE;ROLE=REQ-PARTICIPANT;PARTSTAT=ACCEPTED;RSVP=TRUE;CN="Tsiamtsi
 kas Nikolaos":https://blues.gr/profile/TsiamtsikasNikolaos
ATTENDEE;ROLE=REQ-PARTICIPANT;PARTSTAT=ACCEPTED;RSVP=TRUE;CN="Texas Br
 others":https://blues.gr/profile/TexasBrothers
END:VEVENT
END:VCALENDAR
