BEGIN:VCALENDAR
PRODID:NingEventWidget-v1
VERSION:2.0
METHOD:PUBLISH
BEGIN:VTIMEZONE
TZID:Europe/Athens
X-LIC-LOCATION:Europe/Athens
BEGIN:DAYLIGHT
TZOFFSETFROM:+0200
TZOFFSETTO:+0300
TZNAME:EEST
DTSTART:19700329T030000
RRULE:FREQ=YEARLY;BYMONTH=3;BYDAY=-1SU
END:DAYLIGHT
BEGIN:STANDARD
TZOFFSETFROM:+0300
TZOFFSETTO:+0200
TZNAME:EET
DTSTART:19701025T040000
RRULE:FREQ=YEARLY;BYMONTH=10;BYDAY=-1SU
END:STANDARD
END:VTIMEZONE
BEGIN:VEVENT
UID:1982923:Event:85970
DTSTAMP:20260421T235147Z
SUMMARY:ΧΡΙΣΤΟΥΓΕΝΝΑ ΣΤΟ LAZY....ΧΡΟΝΙΑ ΠΟΛΛ
 .
DESCRIPTION:\nΒΑΓΓΕΛΗΣ ΚΑΚΟΥΛΑΚΗΣ *\nΒαγγέλη
  Κακουλάκης: κιθάρα-φωνή, Σίμος Κοκαβέ
 σης: κιθάρα-φωνή, Θάνος Χατζης Ροδόπου
 ος: πλήκτρα, Παναγιώτης Ψαρόπουλος: μπ
 άσο, Αλέξιος Αντωνόπουλος: ντραμς.\n \n 
 \nΕίναι μία παρέα φοβερών μουσικών που
  διασκευάζουν μεγάλες CLASSIC ROCK/BLUES και POP
  επιτυχίες και υπόσχονται μια βραδυά γ
 εμάτη διασκέδαση!\n\nFor more information visit https:/
 /blues.gr/events/christoygenna-sto-lazychronia
DTSTART;TZID=Europe/Athens:20101225T223000
DTEND;TZID=Europe/Athens:20101226T023000
CATEGORIES:rock, and, blues, de, "profundis."
LOCATION:THE LAZY ROCK AND BLUES CLUB - EVER LIVE
WEBSITE:http://www.lazy.gr  ///http://maps.google.com/maps?f=q&source=
 s_q&hl=en&geocode=&q=%CF%80%CE%B5%CE%BD%CF%84%CE%AD%CE%BB%CE%B7%CF%82+
 1+%CE%B2%CF%81%CE%B9%CE%BB%CE%AE%CF%83%CF%83%CE%B9%CE%B1&sll=19.394068
 ,-81.386719&sspn=37.4418,56.162109&ie=UTF8&hq=&hnear=Pentelis+1,+Vrili
 ssia+15235,+Athens,+Greece&z=16
URL:http://www.lazy.gr  ///http://maps.google.com/maps?f=q&source=s_q&
 hl=en&geocode=&q=%CF%80%CE%B5%CE%BD%CF%84%CE%AD%CE%BB%CE%B7%CF%82+1+%C
 E%B2%CF%81%CE%B9%CE%BB%CE%AE%CF%83%CF%83%CE%B9%CE%B1&sll=19.394068,-81
 .386719&sspn=37.4418,56.162109&ie=UTF8&hq=&hnear=Pentelis+1,+Vrilissia
 +15235,+Athens,+Greece&z=16
CONTACT:210 6895535
ORGANIZER;CN="Spiros Dramitinos":https://blues.gr/profile/SpirosDramit
 inos
ATTACH;FMTTYPE="image/jpeg":http://storage.ning.com/topology/rest/1.0/
 file/get/2252946622?profile=original
ATTENDEE;ROLE=REQ-PARTICIPANT;PARTSTAT=ACCEPTED;RSVP=TRUE;CN="Spiros D
 ramitinos":https://blues.gr/profile/SpirosDramitinos
END:VEVENT
END:VCALENDAR
