BEGIN:VCALENDAR
PRODID:NingEventWidget-v1
VERSION:2.0
METHOD:PUBLISH
BEGIN:VTIMEZONE
TZID:Europe/Athens
X-LIC-LOCATION:Europe/Athens
BEGIN:DAYLIGHT
TZOFFSETFROM:+0200
TZOFFSETTO:+0300
TZNAME:EEST
DTSTART:19700329T030000
RRULE:FREQ=YEARLY;BYMONTH=3;BYDAY=-1SU
END:DAYLIGHT
BEGIN:STANDARD
TZOFFSETFROM:+0300
TZOFFSETTO:+0200
TZNAME:EET
DTSTART:19701025T040000
RRULE:FREQ=YEARLY;BYMONTH=10;BYDAY=-1SU
END:STANDARD
END:VTIMEZONE
BEGIN:VEVENT
UID:1982923:Event:106031
DTSTAMP:20260425T160150Z
SUMMARY:Clutch - Heavy Blues Night in Athens
DESCRIPTION:Clutch is an American band from Maryland, formed in 1990. 
 Each Clutch album is marked by a distinct and cohesive sound dubbed th
 e ultimate jam band. The musical style of the band has migrated from h
 eavy metal and hardcore to hardrock. The band has also integrated funk
  influences into their rock sound. Strong blues influences have also b
 ecome prominent in the releases of the later years as vocalist/guitari
 st Neil Fallon notes: \"We've been really conscious of the blues over 
 the last couple of years, and you have to admit that the blues really 
 is the source of all rock and roll. I think it's important to go to th
 e source to find that inspiration.\"\n<strong>&lt;strong&gt;&amp;lt;br
 /&amp;gt;&lt;/strong&gt;</strong>\n\n\nFor more information visit http
 s://blues.gr/events/clutch-heavy-blues-night-in
DTSTART;TZID=Europe/Athens:20110621T213000
DTEND;TZID=Europe/Athens:20110621T234500
CATEGORIES:live
LOCATION:Gagarin 205
WEBSITE:http://pro-rock.com/index.cfm
URL:http://pro-rock.com/index.cfm
CONTACT:210-8547600
ORGANIZER:Venerate Industries
ATTACH;FMTTYPE="image/jpeg":http://storage.ning.com/topology/rest/1.0/
 file/get/2252952174?profile=original
ATTENDEE;ROLE=REQ-PARTICIPANT;PARTSTAT=ACCEPTED;RSVP=TRUE;CN="Music Ne
 twork by Michael Limnios":https://blues.gr/profile/MichalisLimnios
END:VEVENT
END:VCALENDAR
