BEGIN:VCALENDAR
PRODID:NingEventWidget-v1
VERSION:2.0
METHOD:PUBLISH
BEGIN:VTIMEZONE
TZID:Europe/Athens
X-LIC-LOCATION:Europe/Athens
BEGIN:DAYLIGHT
TZOFFSETFROM:+0200
TZOFFSETTO:+0300
TZNAME:EEST
DTSTART:19700329T030000
RRULE:FREQ=YEARLY;BYMONTH=3;BYDAY=-1SU
END:DAYLIGHT
BEGIN:STANDARD
TZOFFSETFROM:+0300
TZOFFSETTO:+0200
TZNAME:EET
DTSTART:19701025T040000
RRULE:FREQ=YEARLY;BYMONTH=10;BYDAY=-1SU
END:STANDARD
END:VTIMEZONE
BEGIN:VEVENT
UID:1982923:Event:94357
DTSTAMP:20260421T201802Z
SUMMARY:CONGO SQUARE BLUES BAND Live at InVivo
DESCRIPTION:..a full night of Congo's blues powerful proposal!\n\nFor 
 more information visit https://blues.gr/events/congo-square-blues-band
 -live-1
DTSTART;TZID=Europe/Athens:20110318T230000
DTEND;TZID=Europe/Athens:20110319T030000
CATEGORIES:csbb, on, "stage!"
LOCATION:IN VIVO Live Club
WEBSITE:http://www.myspace.com/invivoliveclub
URL:http://www.myspace.com/invivoliveclub
CONTACT:τηλ.: 210 -3822103
ORGANIZER;CN="CONGO SQUARE BLUES BAND":https://blues.gr/profile/CONGOS
 QUAREBLUESBAND
ATTACH;FMTTYPE="image/jpeg":http://storage.ning.com/topology/rest/1.0/
 file/get/2252953697?profile=original
ATTENDEE;ROLE=REQ-PARTICIPANT;PARTSTAT=ACCEPTED;RSVP=TRUE;CN="CONGO SQ
 UARE BLUES BAND":https://blues.gr/profile/CONGOSQUAREBLUESBAND
END:VEVENT
END:VCALENDAR
