BEGIN:VCALENDAR
PRODID:NingEventWidget-v1
VERSION:2.0
METHOD:PUBLISH
BEGIN:VTIMEZONE
TZID:Europe/Athens
X-LIC-LOCATION:Europe/Athens
BEGIN:DAYLIGHT
TZOFFSETFROM:+0200
TZOFFSETTO:+0300
TZNAME:EEST
DTSTART:19700329T030000
RRULE:FREQ=YEARLY;BYMONTH=3;BYDAY=-1SU
END:DAYLIGHT
BEGIN:STANDARD
TZOFFSETFROM:+0300
TZOFFSETTO:+0200
TZNAME:EET
DTSTART:19701025T040000
RRULE:FREQ=YEARLY;BYMONTH=10;BYDAY=-1SU
END:STANDARD
END:VTIMEZONE
BEGIN:VEVENT
UID:1982923:Event:220259
DTSTAMP:20260424T084508Z
SUMMARY:CONTRAST @ LAZY CLUB
DESCRIPTION:\nΣάββατο 21/2\nCONTRAST\nΜαρία Σωτηροπ
 ούλου: φωνή, Πάνος Στριγγλής: κιθάρα-φω
 νή, Κώστας Θεοδωρίδης: πλήκτρα, Σωτήρη
  Πανδής: μπάσο-φωνή, Γιάννης Μπαρμπάτη
 ς: ντραμς-φωνή.\nΠροερχόμενοι από διαφο
 ρετικά backround, οι Contrast Τhe Βand με την εκρη
 τική Μαρία Σωτηροπούλου στο μικρόφων
  σε ένα δυνατό rock-funk πρόγραμμα με επιρ
 οές από soul, blues, rock 'n' roll αλλά και δικό τ
 υς υλικό. Δυναμικές ερμηνείες και πρω
 ότυπες διασκευές,αγαπημένων κομματιώ
 ν του χθες αλλά και του σήμερα, σε μια pl
 aylist που απογειώνει...!!!\n\nFor more information visit
  https://blues.gr/events/contrast-lazy-club
DTSTART;TZID=Europe/Athens:20150221T230000
DTEND;TZID=Europe/Athens:20150222T020000
CATEGORIES:soul, blues, rock, "'n'", roll
LOCATION:LAZY CLUB
WEBSITE:
URL:
CONTACT:210 6895535
ORGANIZER;CN="Spiros Dramitinos":https://blues.gr/profile/SpirosDramit
 inos
ATTACH;FMTTYPE="image/jpeg":http://storage.ning.com/topology/rest/1.0/
 file/get/2253035198?profile=original
ATTENDEE;ROLE=REQ-PARTICIPANT;PARTSTAT=ACCEPTED;RSVP=TRUE;CN="Spiros D
 ramitinos":https://blues.gr/profile/SpirosDramitinos
END:VEVENT
END:VCALENDAR
