BEGIN:VCALENDAR
PRODID:NingEventWidget-v1
VERSION:2.0
METHOD:PUBLISH
BEGIN:VTIMEZONE
TZID:Europe/Athens
X-LIC-LOCATION:Europe/Athens
BEGIN:DAYLIGHT
TZOFFSETFROM:+0200
TZOFFSETTO:+0300
TZNAME:EEST
DTSTART:19700329T030000
RRULE:FREQ=YEARLY;BYMONTH=3;BYDAY=-1SU
END:DAYLIGHT
BEGIN:STANDARD
TZOFFSETFROM:+0300
TZOFFSETTO:+0200
TZNAME:EET
DTSTART:19701025T040000
RRULE:FREQ=YEARLY;BYMONTH=10;BYDAY=-1SU
END:STANDARD
END:VTIMEZONE
BEGIN:VEVENT
UID:1982923:Event:268759
DTSTAMP:20260421T003551Z
SUMMARY:COREY HARRIS ACOUSTIC TRIO
DESCRIPTION:Ο Corey Harris ένας από τους αυθεντικ
 τερους εκφραστές του Delta Blues έρχεται γ
 α πρώτη φορά στην Ελλάδα.\r\nκαι μας συσ
 τήνεται με το υπέροχο τρίο του Reggae, μο
 σική της Καραϊβικής και της Αφρικής α
 ό τον bluesman Corey Harris και το τρίο του: \r\nCor
 ey Harris – guitar, vocals\r\nHook Herrera – harmonica, vocals\r\n
 Lino Muoio – mandolin\r\n Από Παρασκευή 19 έως Δευ
 τέρα 22 Οκτωβρίου let’s blues στο Half Note!\r\n\n\n
 For more information visit https://blues.gr/events/corey-harris-acoust
 ic-trio
DTSTART;TZID=Europe/Athens:20181019T000000
DTEND;TZID=Europe/Athens:20181022T235900
CATEGORIES:blues, roots
LOCATION:Half Note Jazz Club
WEBSITE:
URL:
CONTACT:210 9213310
ORGANIZER:Half Note Jazz Club
ATTACH;FMTTYPE="image/jpeg":http://storage.ning.com/topology/rest/1.0/
 file/get/2253060768?profile=original
ATTENDEE;ROLE=REQ-PARTICIPANT;PARTSTAT=ACCEPTED;RSVP=TRUE;CN="Music Ne
 twork by Michael Limnios":https://blues.gr/profile/MichalisLimnios
END:VEVENT
END:VCALENDAR
