BEGIN:VCALENDAR
PRODID:NingEventWidget-v1
VERSION:2.0
METHOD:PUBLISH
BEGIN:VTIMEZONE
TZID:Europe/Athens
X-LIC-LOCATION:Europe/Athens
BEGIN:DAYLIGHT
TZOFFSETFROM:+0200
TZOFFSETTO:+0300
TZNAME:EEST
DTSTART:19700329T030000
RRULE:FREQ=YEARLY;BYMONTH=3;BYDAY=-1SU
END:DAYLIGHT
BEGIN:STANDARD
TZOFFSETFROM:+0300
TZOFFSETTO:+0200
TZNAME:EET
DTSTART:19701025T040000
RRULE:FREQ=YEARLY;BYMONTH=10;BYDAY=-1SU
END:STANDARD
END:VTIMEZONE
BEGIN:VEVENT
UID:1982923:Event:94392
DTSTAMP:20260421T201750Z
SUMMARY:CRISIS FREE PARTY 18/3/2011 @ ΒΟΤΑΝΙΚΟΣ ΚΗΠΟΣ Ε
 λεύθερος Κοινωνικός Χώρος
DESCRIPTION:Live Band On Stage:- Anamaloupa- White Peppers- Kilimanjar
 o- Sunny Liston's One Man Band- After Midnight Popular Music (AM:PM)- 
 Scaloman- Duoyu De GangmenΔ.Ν.Τ. οικονομική κρίση, 
 κάνδαλα, διαφθορά, ακρίβεια, χρηματοδ
 τήσεις τραπεζών, αυξήσεις τιμών, μειώ
 εις μισθών και συντάξεων, καταργήσεις
  κεκτημένων εργασιακών δικαιωμάτων, β
 α & αστυνομική καταστολή διαδηλώσεων, 
 ανθρώπινα δικαιώματα και εκμετάλλευσ
 ,...απαντάμε με ένα μεγάλο ΟΧΙ και σας κ
 αλούμε σε ένα πάρτι κατά της οικονομικ
 ής κρίσης με 7 ανεξάρτητα συγκροτήματα
  από τη Rock-Ιndie-Reggae-Jamming-Funk-Blues μουσική σκ
 ηνή.Εννοείτε η ελεύθερη είσοδος και η 
 πιλογή σας αν θα πάρετε ποτό η όχι, για
  όσους όμως θελήσουν να ενισχύσουν τη 
 ιβλιοθήκη του Ελεύθερου Κοινωνικoύ Χώ
 ρου, οι τιμές κόντρα στη κρίση και ενάν
 τια στην εκμετάλλευση είναι, με 1 euro το 
 κρασί, 1 euro το τσίπουρο 1,50 euro η μπύρα κα
  3 euro το ποτό!http://www.votanikoskipos.blogspot.com/Ο Βο
 ανικος Στο Χαρτηhttp://maps.google.com/maps/ms?ie=UTF8&
 hl=en&msa=0&msid=204839147190608214781.0004936fa07d7ea211609&ll=38.044
 238%2C23.685451&spn=0.015919%2C0.047808&z=15&iwloc=0004936fa4166937bc6
 65\n\nFor more information visit https://blues.gr/events/crisis-free-p
 arty-1832011
DTSTART;TZID=Europe/Athens:20110318T070000
DTEND;TZID=Europe/Athens:20110319T150000
CATEGORIES:free, party
LOCATION:Πλατεία Αγ. Δημητρίου, στην Πετρο
 πολη (Αθήνα)
WEBSITE:http://maps.google.com/maps/ms?ie=UTF8&hl=en&msa=0&msid=204839
 147190608214781.0004936fa07d7ea211609&ll=38.044238%2C23.685451&spn=0.0
 15919%2C0.047808&z=15&iwloc=0004936fa4166937bc665
URL:http://maps.google.com/maps/ms?ie=UTF8&hl=en&msa=0&msid=2048391471
 90608214781.0004936fa07d7ea211609&ll=38.044238%2C23.685451&spn=0.01591
 9%2C0.047808&z=15&iwloc=0004936fa4166937bc665
CONTACT:
ORGANIZER;CN=Makisk:https://blues.gr/profile/Makisk
ATTACH;FMTTYPE="image/jpeg":http://storage.ning.com/topology/rest/1.0/
 file/get/2252948952?profile=original
ATTENDEE;ROLE=REQ-PARTICIPANT;PARTSTAT=ACCEPTED;RSVP=TRUE;CN=Anamaloup
 a:https://blues.gr/profile/Anamaloupa
ATTENDEE;ROLE=REQ-PARTICIPANT;PARTSTAT=ACCEPTED;RSVP=TRUE;CN="White Pe
 ppers":https://blues.gr/profile/WhitePeppers
ATTENDEE;ROLE=REQ-PARTICIPANT;PARTSTAT=ACCEPTED;RSVP=TRUE;CN=Makisk:ht
 tps://blues.gr/profile/Makisk
END:VEVENT
END:VCALENDAR
