BEGIN:VCALENDAR
PRODID:NingEventWidget-v1
VERSION:2.0
METHOD:PUBLISH
BEGIN:VTIMEZONE
TZID:Europe/Athens
X-LIC-LOCATION:Europe/Athens
BEGIN:DAYLIGHT
TZOFFSETFROM:+0200
TZOFFSETTO:+0300
TZNAME:EEST
DTSTART:19700329T030000
RRULE:FREQ=YEARLY;BYMONTH=3;BYDAY=-1SU
END:DAYLIGHT
BEGIN:STANDARD
TZOFFSETFROM:+0300
TZOFFSETTO:+0200
TZNAME:EET
DTSTART:19701025T040000
RRULE:FREQ=YEARLY;BYMONTH=10;BYDAY=-1SU
END:STANDARD
END:VTIMEZONE
BEGIN:VEVENT
UID:1982923:Event:18946
DTSTAMP:20260423T181246Z
SUMMARY:CROSSROADS LIVE
DESCRIPTION:COME JOIN US FOR 4 HOURS OF FANTASTIC FUN ROCKIN,ROLLING S
 HAKING AND BAKING BLUESING AND GROOVING\n\nFor more information visit 
 https://blues.gr/events/crossroads-live-4
DTSTART;TZID=Europe/Athens:20090313T230000
DTEND;TZID=Europe/Athens:20090314T040000
CATEGORIES:gig
LOCATION:CACHICA CLUB
WEBSITE:
URL:
CONTACT:
ORGANIZER;CN="John \" crossroads\"Stone":https://blues.gr/profile/john
 stone
ATTACH;FMTTYPE="image/jpeg":http://storage.ning.com/topology/rest/1.0/
 file/get/2073733353?profile=original
ATTENDEE;ROLE=REQ-PARTICIPANT;PARTSTAT=ACCEPTED;RSVP=TRUE;CN="John \" 
 crossroads\"Stone":https://blues.gr/profile/johnstone
ATTENDEE;ROLE=REQ-PARTICIPANT;PARTSTAT=TENTATIVE;RSVP=TRUE;CN="JOHN AN
 GELATOS-Red Rooster Prod.":https://blues.gr/profile/JohnAngelatos
END:VEVENT
END:VCALENDAR
