BEGIN:VCALENDAR
PRODID:NingEventWidget-v1
VERSION:2.0
METHOD:PUBLISH
BEGIN:VTIMEZONE
TZID:Europe/Athens
X-LIC-LOCATION:Europe/Athens
BEGIN:DAYLIGHT
TZOFFSETFROM:+0200
TZOFFSETTO:+0300
TZNAME:EEST
DTSTART:19700329T030000
RRULE:FREQ=YEARLY;BYMONTH=3;BYDAY=-1SU
END:DAYLIGHT
BEGIN:STANDARD
TZOFFSETFROM:+0300
TZOFFSETTO:+0200
TZNAME:EET
DTSTART:19701025T040000
RRULE:FREQ=YEARLY;BYMONTH=10;BYDAY=-1SU
END:STANDARD
END:VTIMEZONE
BEGIN:VEVENT
UID:1982923:Event:489295
DTSTAMP:20260419T231819Z
SUMMARY:Daddy's Work Blues Band and Giotis Kyttaris + Op. Act: Voyager
  Station - Rockwood Live Stage
DESCRIPTION:Σάββατο 18 Μαρτίου 2023 | Daddy’s Work Blu
 es Band & Giotis Kyttaris at Rockwood Live Stage\n\nΈναρξη 22:00
 \nΟι Daddy's Work Blues Band επιστρέφουν στη σκην
  του Rockwood και σερβίρουν ένα electric blues gumb
 o.  Θα παίξουν αγαπημένα blues, θα φλερτάρ
 ουν με όλα τα γειτονικά ιδιώματα και π
 ρουσιάσουν δικά τους κομμάτια από το 
 τεμπούτο album τους “First” \nΟ Giotis Kyttaris εί
 ναι μια ιδιαίτερη φυσιογνωμία των Blues. 
 Έμαθε να παίζει κιθάρα σε μικρή ηλικία
  και έζησε τη ζωή του περιπλανώμενου μ
 υσικού για σχεδόν δύο δεκαετίες.\nOpening 
 act: Voyager Station https://www.facebook.com/voyagerstation\n\n\n+3
  στο πρώτο ποτό κατ' άτομο, αντί εισόδο
 υ.\n\nFor more information visit https://blues.gr/events/daddy-s-work
 -blues-band-amp-giotis-kyttaris-op-act-voyager
DTSTART;TZID=Europe/Athens:20230318T220000
DTEND;TZID=Europe/Athens:20230319T010000
CATEGORIES:live, music
LOCATION:Rockwood Live Stage
WEBSITE:https://goo.gl/maps/7EZpbVDAwatx2X5x6
URL:https://goo.gl/maps/7EZpbVDAwatx2X5x6
CONTACT:2155010941 - 6980762062
ORGANIZER;CN="Giannis Pachidis":https://blues.gr/profile/ioannis
ATTACH;FMTTYPE="image/jpeg":https://storage.ning.com/topology/rest/1.0
 /file/get/10996315862?profile=original
ATTENDEE;ROLE=REQ-PARTICIPANT;PARTSTAT=ACCEPTED;RSVP=TRUE;CN="Giannis 
 Pachidis":https://blues.gr/profile/ioannis
END:VEVENT
END:VCALENDAR
